BEGIN:VCALENDAR
VERSION:2.0
PRODID:-//wp-events-plugin.com//7.2.3.1//EN
TZID:Australia/Sydney
X-WR-TIMEZONE:Australia/Sydney
BEGIN:VEVENT
UID:2122@unswoc.org
DTSTART:20170331T210000Z
DTEND:20170401T060000Z
DTSTAMP:20170328T234231Z
URL:https://unswoc.org/wordpress/events/twister-rocky-2-0-boree-log-saturd
 ay/
SUMMARY:Twister Rocky 2.0!!! Boree Log Saturday
DESCRIPTION:This is the second Twister Rocky trip for Saturday of Boree Log
  run by German C and Vicky C. They plan to leave earlier than Eamonn's tri
 p so this would be good for early risers.\n\nTransport and other details w
 ill be worked out in a group facebook convo. You can only attend this trip
  if you have signed up and successfully attending the main Boree log trip.
 \n\nYou will need to be fairly fit (a bit of walking) and not too scared o
 f heights - there will be some jumps and slides into the water!\n\nDetails
  about the canyon can be found here: http://ozultimate.com/canyoning/track
 _notes/twister.htm\n\nMESSAGE GERMAN OR VICKY IF YOU HAVE A CAR (on facebo
 ok).\n\n\nDescription:\n\nGenerally in canyons\, you have a bit of a walk 
 in from the road until you reach the canyon entrance (usually a stream). W
 e then put our wetsuits on and follow the stream down\, jumping and slidin
 g into pools. We then have a bit of lunch in the sun (if we are lucky!) an
 d continue on for the remainder of the canyon\n\nGear you will need !\n\n	
 Wetsuit*\n	Shorts to wear over your wetsuit to protect it (they will be ge
 tting wet and scratched)\n	Helmet*\n	Woolen socks (do not wear cotton or y
 our feet will be VERY VERY cold)\n	Enclosed shoes (these are going to get 
 wet and muddy. You can buy cheap ones from k-mart or big w)\n	at least 2L 
 of water\n	Lunch\n	Snacks (for your leaders!)\n	Backpack (That you dont mi
 nd getting wet and can fit all your things)\n	Dry bag (these are waterproo
 f bags that go in the backpack to keep your things dry. You can get them a
 t mountain designs for about $20. We also get 20% discount there - otherwi
 se there might be enough to share).\n	Torch (some kind of lighting device 
 should be brought in the dry bag in the case we run out of sunlight!)\n	Dr
 y thermals (top and bottom if you are the type that gets easily cold)\n	Dr
 y clothes\, shoes and towel (we will leave these in the car to get changed
  into on the way back)\n	Petrol money for your driver.\n\n*You can hire th
 ese items for free on the day. But please bring your own if you have it. T
 here may be a limited supply! Especially with wetsuits.\n\n\nLet us know i
 f you have any questions.\n\nGerman and Vicky\n\n(courtesy of E A Monn)
CATEGORIES:Boree Log,Canyoning
END:VEVENT
END:VCALENDAR