BEGIN:VCALENDAR
VERSION:2.0
PRODID:-//wp-events-plugin.com//7.2.3.1//EN
TZID:Australia/Sydney
X-WR-TIMEZONE:Australia/Sydney
BEGIN:VEVENT
UID:3466@unswoc.org
DTSTART;TZID=Australia/Sydney:20240926T190000
DTEND;TZID=Australia/Sydney:20240926T223000
DTSTAMP:20240918T000710Z
URL:https://unswoc.org/wordpress/events/trivia-night/
SUMMARY:Trivia Night
DESCRIPTION:Hi Friends\,\n\nHugh\, Sophia and I will be hosting an outdoor-
 themed club trivia night on Thursday the 26th of September at the Forest L
 odge Hotel.\n\nTrivia will be covering a wide range of topics\, including 
 but not limited to\; the CCC trifecta (climbing\, canyoning\, canyoning)\,
  rigging / rope safety and systems\, hiking and navigation\, sustainabilit
 y\, history of the outdoors\, iconic destinations and indigenous land.\n\n
 Anyone with an interest in the outdoors (and responsible participation in 
 the outdoors) is welcome to come along\; regardless of experience and/or k
 nowledge. The idea is for the night to be a bit of fun and banter\, and a 
 good excuse to have a beer or a non-alcoholic beverage among new and old m
 ates.\n\nThat being said: competition will be FIERCE and there will be pri
 zes for winning teams (to be announced).\n\nBoth new and prospective club 
 members are encouraged to come along. As mentioned in my post on the UNSWO
 C Facebook page (see link:  https://www.facebook.com/groups/20982273634)\
 , please feel free to leave a comment or send Emily a message to be added 
 to a trivia group chat to organise teams of 3-4 people in advance. People 
 are also very welcome to form teams on the night.\n\nAnyone super game for
  an early climb could come from the ledge climbing centre\, but we do ask 
 people arrive at about 7pm for a 7:30pm start.\n\n***Please note that on t
 his particular Thursday evening\, there will be NO table booking at the fo
 rest lodge hotel for post climb beers and pizza. If you would not like to 
 attend the trivia but want to come pub after climbing at the ledge\, you w
 ill need to scavenge for a table OUTSIDE the back room\, which will be res
 erved exclusively for trivia***\n\nDo sign up and get amongst it: for more
  than 40 attendees the flodge will be providing free pizza and snacks.\n\n
 Please feel free to shoot Emily or Hugh a message on facebook for any triv
 ia related questions (Hugh will be accepting bribes).\n\nCheers\,\n\nEvent
 s (and Hugh)
CATEGORIES:Social Event
LOCATION:https://www.google.com/maps?sca_esv=d6adee7a62f33ac3&rlz=1C1CHBF_e
 n-GBAU1095AU1096&output=search&q=forest+lodge+hotel&source=lnms&fbs=AEQNm0
 CrHVBV9axs7YmgJiq-TjYc7RgyMjmhctvLCnk5YpVfOzTk9UgrCkq1LL6wECoQ_WEoaA1_aTlt
 SLVG7kscQ4h2Q9yAx5FoPigmu0otjuPL8YWyoLa-jWYDag_rJJ0rqNu5rhT83hUnTafMInV7sD
 zRIDsmuFmhHZhgWgRKo956bf1_slPbnvt7GzL-OHSLwPOcHJJIbiVYZGY0M9IucH5IUr1n0w&e
 ntry=mc&ved=1t:200715&ictx=111
END:VEVENT
BEGIN:VTIMEZONE
TZID:Australia/Sydney
X-LIC-LOCATION:Australia/Sydney
BEGIN:STANDARD
DTSTART:20240407T020000
TZOFFSETFROM:+1100
TZOFFSETTO:+1000
TZNAME:AEST
END:STANDARD
END:VTIMEZONE
END:VCALENDAR