BEGIN:VCALENDAR
VERSION:2.0
PRODID:-//wp-events-plugin.com//7.2.3.1//EN
TZID:Australia/Sydney
X-WR-TIMEZONE:Australia/Sydney
BEGIN:VEVENT
UID:3502@unswoc.org
DTSTART;TZID=Australia/Sydney:20241009T183000
DTEND;TZID=Australia/Sydney:20241009T203000
DTSTAMP:20241009T065344Z
URL:https://unswoc.org/wordpress/events/trip-leading-information-night-t3-
 2024/
SUMMARY:Trip Leading Information Night\, T3 2024
DESCRIPTION:Howdy folks\,\n\nNext Wednesday Week 5 (9th October)\, we'll be
  running a Trip Leading Information night.\n\nIf you’re a Trip Leader in
  Training (or aspiring to be one) come along to learn how we induct Trip L
 eaders at UNSWOC.\n\nWe'll be presenting the UNSWOC training programs and 
 TL levels that we’ve recently introduced. As well as important considera
 tions for being a TL. This will be a good refresher for existing Trip Lead
 ers as well. All are welcome!\n\nFor our diligent students\, have a read o
 f the new TL/Training Progression on the Website here\n\nWhy become a trip
  leader?\n\n 	It's an awesome opportunity to give back to the club - UNSWO
 C's foundation is built on keen volunteers!\n 	Accelerate your skills - te
 aching others is a great way to solidify your own knowledge\n 	Meet other 
 like-minded trip leaders - every club trip is run with at least two TLs wh
 ich means you get to hang out with people just as passionate about climbin
 g/canyoning/the outdoors as you are. Plus\, you may learn a new niche tip 
 or trick you may not have come across before.\n 	Its a beautiful excuse to
  get outdoors more!\n\nLocation will be on campus - exact building/room TB
 A\n\nSee ya there :)\n\n&nbsp\;\n\n
CATEGORIES:Training
LOCATION:https://www.google.com/maps/dir//unsw+law+building+cats+room+101/d
 ata=!4m6!4m5!1m1!4e2!1m2!1m1!1s0x6b12b18783bb64a1:0x7deb3e6722e47dda?sa=X&
 ved=1t:3061&ictx=111
END:VEVENT
BEGIN:VTIMEZONE
TZID:Australia/Sydney
X-LIC-LOCATION:Australia/Sydney
BEGIN:DAYLIGHT
DTSTART:20241006T030000
TZOFFSETFROM:+1000
TZOFFSETTO:+1100
TZNAME:AEDT
END:DAYLIGHT
END:VTIMEZONE
END:VCALENDAR