BEGIN:VCALENDAR
VERSION:2.0
PRODID:-//wp-events-plugin.com//7.2.3.1//EN
TZID:Australia/Sydney
X-WR-TIMEZONE:Australia/Sydney
BEGIN:VEVENT
UID:2099@unswoc.org
DTSTART:20170216T130000Z
DTEND:20170218T130000Z
DTSTAMP:20170215T131200Z
URL:https://unswoc.org/wordpress/events/trip-leaders-boree-log-challenge-c
 humps/
SUMMARY:Trip Leaders Boree Log - Challenge of the Chumps
DESCRIPTION:more details on the FB events page :)\n\nDear Chump\,\n\nYou ar
 e invited to attend the 1st ever Annual Challenge of the Chumps! (AKA trip
  leader's boree log) This is a chance for you as a trip leader to challeng
 e your fellow chumps and battle to glory.\n\nHow it's going to work:\n- We
  shall gather at Mt Wilson Cathedral of ferns campground Friday night/Satu
 rday morning depending on your avaliability.\n- If you want to go on a par
 ticular climb\, canyon\, hike or cycle on either Saturday or Sunday\, star
 t a comment thread below saying how many chumps you wish to accomidate. If
  you wish to attend\, sort it out with the person who started the thread.\
 n- Saturday night we shall have a CONTEST OF THE CATEGORIES. Dress as your
  favourite climb\, canyon or hike and there will be prizes awarded to the 
 best dressed in each category.\n- Sunday morning the club will provide bre
 akfast\, so if you want do do any alpine starts get that out of your syste
 m on Saturday.\n\nThere are more challenges to come so prepare yourself fo
 r battle!\n\n*Note: This is an event for trip UNSWOC leaders (past and pre
 sent) only\, any non-trip leaders must be approved by the exec.
END:VEVENT
END:VCALENDAR