BEGIN:VCALENDAR
VERSION:2.0
PRODID:-//wp-events-plugin.com//7.2.3.1//EN
TZID:Australia/Sydney
X-WR-TIMEZONE:Australia/Sydney
BEGIN:VEVENT
UID:3667@unswoc.org
DTSTART;TZID=Australia/Sydney;VALUE=DATE:20251011
DTEND;TZID=Australia/Sydney;VALUE=DATE:20251013
DTSTAMP:20251006T104118Z
URL:https://unswoc.org/wordpress/events/trip-leader-training-weekend-2025/
SUMMARY:Trip Leader Training Weekend 2025
DESCRIPTION:Hi All\,\n\nOn the 11 - 12th of October\, UNSWOC is planning to
  do an intensive 2 day Trip Leader and Trip Leader in Training skills and 
 refresher course. This weekend will aim to up-skill our TL's and TLIT's on
  skills required to lead trips\, including skills from basic knots to vert
 ical rescue.\n\n[caption id="attachment_17815" align="aligncenter" width="
 300"] January 2025 Training Weekend[/caption]\nDetails\nParticipants will 
 be assigned a group based on their sport preference\, and skill level. The
 re will be the following workshops running:\n\n 	Canyoning Level 1\n 	Cany
 oning Level 2\n 	Sport Climbing Level 1\n 	Sport Climbing Level 2 + Additi
 onal Skills\n 	Caving Rope Skills - Horizontal and Vertical Caving (contac
 t Cindy for additional details)\n 	Trad Climbing (depending on interest)\n
 \nAn outline of the skills in each level can be found here UNSWOC Trip Lea
 der Skillsets V5.\n\nThe format of each two-day workshop is up to the disc
 retion of the TLs running the workshops\, and could include clifftop works
 hops\, at location scenarios\, or workshops at the campsite. You will most
  likely spend Saturday at the campsite\, then test your knowledge out at a
  crag or in a canyon on the Sunday.\n\nNumber of participants depends on t
 he number of TL's available to help run the workshops.\n\nAll workshops wi
 ll be run around the upper Blue Mountains\, and we will be camping at Cath
 edral Reserve on the Saturday night. Most people will likely decide to arr
 ive Friday evening.\n\nCARPOOLING SPREADSHEET\n\n[caption id="attachment_1
 8462" align="aligncenter" width="226"] Crystal Brook Canyon[/caption]\n\n&
 nbsp\;\nPre-reading\nSkills being taught:\n\nUNSWOC Trip Leader Skillsets 
 V5\n\nIn the comments:\n\n 	State whether you want to learn canyoning\, sp
 ort climbing\, caving\, or trad climbing skills (if multiple please order 
 them with your preference)\, and at which level.\n 	Your relevant experien
 ce in the activity.\n 	How many centimetres of nail you have clipped off y
 our big toe.\n\n&nbsp\;\n\nIf you are not yet a Trip Leader in Training bu
 t have an interest in becoming one\, please let us know in your comment. A
 lso reach out to Rafferty to discuss becoming a TLIT.\n\n&nbsp\;\n\nThank 
 you! Hope to see you all there!
ATTACH;FMTTYPE=image/jpeg:https://unswoc.org/wordpress/wp-content/uploads/
 2025/02/image.gif
CATEGORIES:Abseiling,Canyoning,Caving,Climbing,Outdoor Climbing,Training
LOCATION:https://search.app.goo.gl/mbqrWv8
END:VEVENT
BEGIN:VTIMEZONE
TZID:Australia/Sydney
X-LIC-LOCATION:Australia/Sydney
BEGIN:DAYLIGHT
DTSTART:20251005T030000
TZOFFSETFROM:+1000
TZOFFSETTO:+1100
TZNAME:AEDT
END:DAYLIGHT
END:VTIMEZONE
END:VCALENDAR