BEGIN:VCALENDAR
VERSION:2.0
PRODID:-//wp-events-plugin.com//7.2.3.1//EN
TZID:Australia/Sydney
X-WR-TIMEZONE:Australia/Sydney
BEGIN:VEVENT
UID:2984@unswoc.org
DTSTART;TZID=Australia/Sydney:20220228T190000
DTEND;TZID=Australia/Sydney:20220228T203000
DTSTAMP:20220223T113509Z
URL:https://unswoc.org/wordpress/events/trip-leader-training-2022-monday-f
 ebruary-28th-7pm-to-830pm-squarehouse-114/
SUMMARY:Trip Leader Training 2022: Monday February 28th\, 7pm to 8:30pm Squ
 arehouse 114
DESCRIPTION:Dear aspiring and seasoned trip leaders\,\n\nSo... you're think
  about becoming a trip leader\, this Trip Leader Induction night is the pe
 rfect opportunity to learn about the club's processes and training to get 
 new members develop their skills and start leading trips. All new trip lea
 ders lead a few trips assisting a more experienced trip leader\, before he
 ading into the big wide world by yourselves. This session will cover the b
 asics of opening a trip\, insurance\, training and other items.\n\nWhen? M
 onday February 28th\, 7pm to 8:30pm\n\nWhere? E4 Squarehouse\, Room 114\, 
 UNSW Kensington Campus\n\nCan't make it? No problem\, there will be a zoom
  session you can join in to watch. Link will be posted here and on the FB 
 thread.\n\nPlease add any dietary requirements in the comment box below\n\
 nBrendan.\n\n&nbsp\;\n\n&nbsp\;\n\n&nbsp\;
ATTACH;FMTTYPE=image/jpeg:https://unswoc.org/wordpress/wp-content/uploads/
 2021/06/picture5.jpg
CATEGORIES:Training
END:VEVENT
BEGIN:VTIMEZONE
TZID:Australia/Sydney
X-LIC-LOCATION:Australia/Sydney
BEGIN:DAYLIGHT
DTSTART:20211003T030000
TZOFFSETFROM:+1000
TZOFFSETTO:+1100
TZNAME:AEDT
END:DAYLIGHT
END:VTIMEZONE
END:VCALENDAR