BEGIN:VCALENDAR
VERSION:2.0
PRODID:-//wp-events-plugin.com//7.2.3.1//EN
TZID:Australia/Sydney
X-WR-TIMEZONE:Australia/Sydney
BEGIN:VEVENT
UID:2835@unswoc.org
DTSTART;TZID=Australia/Sydney:20210201T180000
DTEND;TZID=Australia/Sydney:20210201T200000
DTSTAMP:20210129T053302Z
URL:https://unswoc.org/wordpress/events/trip-leader-induction-night/
SUMMARY:Trip Leader Induction Night!
DESCRIPTION:Hey you!\n\nStoked on climbing\, hiking\, paddling\, or just be
 ing in the outdoors? Want to give back to the club that taught you the ski
 lls you rely on? Want to feed off the stoke of others to send your proj?\n
 \nTime for you to become an UNSWOC Trip Leader!\n\nThis night is designed 
 for anyone who may be helping lead a trip over the coming year. We will b
 e going through safety and procedure when leading a trip\, what gear you n
 eed\, how to keep participants safe\, how to manage sign-ups\, as well as 
 covering some information about legal issues/insurance.\n\nWhile the night
  is primarily targeted at new trip leaders\, it is always good to have a r
 efresher\, especially with the constant COVID guideline updates.\n\n&nbsp\
 ;\n\nLocation: Quadrangle G034\n\nSee you all there!
END:VEVENT
BEGIN:VTIMEZONE
TZID:Australia/Sydney
X-LIC-LOCATION:Australia/Sydney
BEGIN:DAYLIGHT
DTSTART:20201004T030000
TZOFFSETFROM:+1000
TZOFFSETTO:+1100
TZNAME:AEDT
END:DAYLIGHT
END:VTIMEZONE
END:VCALENDAR