BEGIN:VCALENDAR
VERSION:2.0
PRODID:-//wp-events-plugin.com//7.2.3.1//EN
TZID:Australia/Sydney
X-WR-TIMEZONE:Australia/Sydney
BEGIN:VEVENT
UID:3779@unswoc.org
DTSTART;TZID=Australia/Sydney:20260414T190000
DTEND;TZID=Australia/Sydney:20260414T203000
DTSTAMP:20260410T135556Z
URL:https://unswoc.org/wordpress/events/trip-leader-induction-night-tuesda
 y-14th-april-7pm/
SUMMARY:Trip Leader Induction Night - Tuesday 14th April 7pm
DESCRIPTION:Are you looking to get more involved with the club?\n\nAre you 
 looking to upskill yourself in the world of outdoor adventures?\n\nAre you
  an L1/TLIT and uncertain about AMSA/Trip Coordination Responsibilities?\n
 \nIf so\, you should come along next Tuesday the 14th of April to our Trip
  Leader Induction night!\n\nThe plan is to meet at UNSW at 7pm in Business
  Room 205 and we'll run you through the details of trip leading. We'll be 
 covering trip skills\, safety\, website and insurance details\, we'll also
  give personal tips and general vibes from our own experiences trip-leadin
 g.\n\nPlease let me know what kind of trips you'd like to run\, your exper
 iences and the main reason you'd like to get involved\n\n\n\nIf you're uns
 ure whether you have enough experience or knowledge to start leading trips
 \, I'd encourage you to come along and we can figure out how to train you 
 up to a safe and competent UNSWOC level.\n\nAlso\, if you're interested in
  becoming a trip leader\, but can't make it\, please message me on Faceboo
 k and we'll figure something out.\n\nHope to see a bunch of you there :)\n
 \n**Remember to log into the website to sign up!**\n\nThanks Linna/Mali fo
 r the event template
CATEGORIES:Training
LOCATION:http://-
END:VEVENT
BEGIN:VTIMEZONE
TZID:Australia/Sydney
X-LIC-LOCATION:Australia/Sydney
BEGIN:STANDARD
DTSTART:20260405T020000
TZOFFSETFROM:+1100
TZOFFSETTO:+1000
TZNAME:AEST
END:STANDARD
END:VTIMEZONE
END:VCALENDAR