BEGIN:VCALENDAR
VERSION:2.0
PRODID:-//wp-events-plugin.com//7.2.3.1//EN
TZID:Australia/Sydney
X-WR-TIMEZONE:Australia/Sydney
BEGIN:VEVENT
UID:3210@unswoc.org
DTSTART;TZID=Australia/Sydney:20230308T173000
DTEND;TZID=Australia/Sydney:20230308T203000
DTSTAMP:20230227T090811Z
URL:https://unswoc.org/wordpress/events/trip-leader-in-training-induction-
 night/
SUMMARY:Trip-Leader-In-Training Induction Night
DESCRIPTION:Are you looking to get more involved with the club?\n\nAre you 
 looking to see UNSWOC run more or different trips?\n\nOr are you looking t
 o upskill yourself in the world of outdoor adventures?\n\n&nbsp\;\n\nIf so
 \, then you should come along next Wednesday the 8th of March to our Trip 
 Leader in Training induction night !\n\nThe plan is to meet at the UNSW La
 w building at 5.30pm and we'll run you through the details of trip leading
 . We'll be covering trip skills\, safety\, website and insurance details\,
  we'll also give personal tips and general vibes from our own experiences 
 trip-leading.\n\nPlease fill out this form before coming\, so we can have 
 a general impression of who to expect: https://forms.gle/7HHoKTo9GoV1if5LA
  \n\n&nbsp\;\n\nIf you're unsure whether you have enough experience or kn
 owledge to start leading trips\, I'd encourage you to come along and we ca
 n figure out how to train you up to a safe and competent unswoc level.\n\n
 Also\, if you're interested in becoming a trip leader\, but can't make it 
 next Wednesday\, please fill in the above google forms and message me (Mal
 i Woods) and we'll figure something out.\n\nHope to see a bunch of you the
 re :) (Pizza more than likely will be provided!)\n\n&nbsp\;\n\n&nbsp\;
CATEGORIES:Social Event,Training
END:VEVENT
BEGIN:VTIMEZONE
TZID:Australia/Sydney
X-LIC-LOCATION:Australia/Sydney
BEGIN:DAYLIGHT
DTSTART:20221002T030000
TZOFFSETFROM:+1000
TZOFFSETTO:+1100
TZNAME:AEDT
END:DAYLIGHT
END:VTIMEZONE
END:VCALENDAR