BEGIN:VCALENDAR
VERSION:2.0
PRODID:-//wp-events-plugin.com//7.2.3.1//EN
TZID:Australia/Sydney
X-WR-TIMEZONE:Australia/Sydney
BEGIN:VEVENT
UID:3425@unswoc.org
DTSTART;TZID=Australia/Sydney:20240604T180000
DTEND;TZID=Australia/Sydney:20240604T193000
DTSTAMP:20240602T073724Z
URL:https://unswoc.org/wordpress/events/trip-leader-in-training-induction-
 night-tuesday-4th-june-6pm/
SUMMARY:Trip Leader in Training Induction Night - Tuesday 4th June 6pm
DESCRIPTION:Are you looking to get more involved with the club?\n\nAre you 
 looking to see UNSWOC run more or different trips?\n\nOr are you looking t
 o upskill yourself in the world of outdoor adventures?\n\nIf so\, you shou
 ld come along next Tuesday the 4th of June to our Trip Leader in Training 
 (TLIT) induction night! This will also be useful for those of you attendin
 g the TL and TLIT Training Weekend on the 8th/9th of June =)\n\nThe plan i
 s to meet at the UNSW Law building at 6pm and we'll run you through the de
 tails of trip leading. We'll be covering trip skills\, safety\, website an
 d insurance details\, we'll also give personal tips and general vibes from
  our own experiences trip-leading.\n\nPlease fill out this form before com
 ing\, so we can have a general impression of who to expect.\n\n\n\nIf you'
 re unsure whether you have enough experience or knowledge to start leading
  trips\, I'd encourage you to come along and we can figure out how to trai
 n you up to a safe and competent UNSWOC level.\n\nAlso\, if you're interes
 ted in becoming a trip leader\, but can't make it next Tuesday\, please fi
 ll in the above google forms and message me on Facebook and we'll figure s
 omething out.\n\nHope to see a bunch of you there :)\n\n**Remember to log 
 into the website to sign up!**\n\nThanks Mali for the event template
CATEGORIES:Training
LOCATION:https://maps.app.goo.gl/NSfTqxXD5J3mMsZg7
END:VEVENT
BEGIN:VTIMEZONE
TZID:Australia/Sydney
X-LIC-LOCATION:Australia/Sydney
BEGIN:STANDARD
DTSTART:20240407T020000
TZOFFSETFROM:+1100
TZOFFSETTO:+1000
TZNAME:AEST
END:STANDARD
END:VTIMEZONE
END:VCALENDAR