BEGIN:VCALENDAR
VERSION:2.0
PRODID:-//wp-events-plugin.com//7.2.3.1//EN
TZID:Australia/Sydney
X-WR-TIMEZONE:Australia/Sydney
BEGIN:VEVENT
UID:3528@unswoc.org
DTSTART;TZID=Australia/Sydney;VALUE=DATE:20250222
DTEND;TZID=Australia/Sydney;VALUE=DATE:20250224
DTSTAMP:20250219T231542Z
URL:https://unswoc.org/wordpress/events/trial-by-fire-burralow-creek-campg
 round-22-23-feb/
SUMMARY:Trial by Fire @ Burralow Creek Campground\, 22-23 Feb
DESCRIPTION:Alright UNSWOC crew\, Leo and I (Hammy) have absolutely no idea
  how to cook over a campfire—but we’re doing it anyway. Join us this 2
 2-23 Feb at Burralow Creek Campground for a high-stakes\, high-flame culin
 ary experiment where success is optional\, but fun is guaranteed.\n\nWhat
 ’s the Plan?\nWe’re attempting two fancy meals—dinner and breakfast.
  Will it be a Michelin-star masterpiece or a charred disaster? Who knows! 
 But it will be an adventure.\n🔥 Bonus points for wearing something fanc
 y while cooking. (A chef’s hat\, a tuxedo\, medieval armor—flex your s
 tyle.)\n👨‍🍳 Have experience? Awesome. No experience? Even better. 
 This is all about experimenting\, laughing at our mistakes\, and seeing wh
 at we can create with fire and pure determination.\n⚠️ There are no ru
 les—just have fun\, cook\, and embrace the chaos.\n\nImportant Note\n
 🚨 Trip leaders are NOT providing food. You are responsible for bringing
  and cooking all your own meals and snacks. Make sure you come prepared! 
 🚨\n\n\nTimeline\n⏰ Saturday 10 AM – arrive and set up camp.🥾 Mid
 day – Join us for a hike if you’re keen!🎲 Afternoon – Free time: 
 Prep for dinner\, play games\, or just relax and enjoy the surroundings.
 🔥 Evening – The ultimate campfire feast!🌙 Saturday Night – More 
 games\, stargazing\, and spooky campfire stories. (Bring your best ghost t
 ales!)🥞 Sunday Morning – Fancy breakfast before packing up and headin
 g home.\n\n\nWhat to Bring\n\n 	Water – At least 3L\, but more is better
 ! (We need to bring all our own drinking and cooking water.)\n 	Torch (hea
 dlamp ideal!) So you can actually see what you're doing when it gets dark.
 \n 	Toilet paper – There are toilets\, but bringing a little extra is a 
 good idea.\n 	Whatever cooking equipment you need (fire-safe pots\, pans\,
  utensils—Nonstick cookware is not ideal over the fire)\n 	Your most amb
 itious campfire meal ingredients\n 	Fancy dinnerware (because why not?)\n 
 	Warm clothes (it gets chilly at night)\n 	Camp chair (for dining like roy
 alty)\n 	A quick &amp\; easy backup meals and snacks (just in case)\n 	An
 y fun games\, instruments\, or dramatic toasts for extra flair\n\n&nbsp\;\
 nGear Available for Rental\nIf you don’t have the following items\, you 
 need to organize the gear rental via Booqable on the club website and pick
  it up yourself from the gear cupboard [usually opens Thursdays 5pm]\n\n\n
  	Tent*\n 	Sleeping bag*\n 	Sleeping mat/pad*\n 	Cooking pot*\n 	Gas stove
 *\n\n&nbsp\;\nEasy(ish) Fancy Campfire Dinners\nIf you need inspiration\, 
 here are some meals that are impressive yet doable over a fire:🔥 Steak 
 &amp\; Garlic Butter Veggies – Because nothing says fancy like a perfect
 ly seared steak.🔥 Campfire Paella – Rice\, seafood (or chicken)\, saf
 fron\, and a whole lot of flex.🔥 Stuffed Capsicums – Roast them over 
 the fire with a filling of rice\, herbs\, and cheese.🔥 Charred Lamb Cho
 ps with Rosemary &amp\; Honey Glaze – Fancy enough for a five-star resta
 urant\, but cooked in the wild.🔥 Smoky Tomato &amp\; Basil Pasta – Be
 cause even a simple pasta dish can be gourmet with the right ingredients.\
 nSo\, what’s on your campfire menu? Comment below with what you plan to 
 cook (or what you’d love to eat) and Facebook Messenger contact. Let’s
  turn this trial by fire into the most chaotically elegant campout ever. 
 🍽️✨\nOnce you have been approved for the trip\, we’ll make a Mess
 enger chat to sort out any gear you may need\, carpooling\, and discuss mo
 re details and timings. 🙂\nBon appétit\, brave souls!
CATEGORIES:Social Event
LOCATION:https://maps.app.goo.gl/Nw6TE1iBohZKJpan7
END:VEVENT
BEGIN:VTIMEZONE
TZID:Australia/Sydney
X-LIC-LOCATION:Australia/Sydney
BEGIN:DAYLIGHT
DTSTART:20241006T030000
TZOFFSETFROM:+1000
TZOFFSETTO:+1100
TZNAME:AEDT
END:DAYLIGHT
END:VTIMEZONE
END:VCALENDAR