BEGIN:VCALENDAR
VERSION:2.0
PRODID:-//wp-events-plugin.com//7.2.3.1//EN
TZID:Australia/Sydney
X-WR-TIMEZONE:Australia/Sydney
BEGIN:VEVENT
UID:2292@unswoc.org
DTSTART;VALUE=DATE:20181007
DTEND;VALUE=DATE:20181008
DTSTAMP:20180928T042656Z
URL:https://unswoc.org/wordpress/events/transition-to-outdoor-climbing/
SUMMARY:Transition to Outdoor Climbing
DESCRIPTION:Sophie and I will be running a Transition to Outdoor Climbing t
 rip to Mount Alexandra next Sunday. Participants must be confident leading
  and lead belaying indoors\, and be able to lead at least an outdoor grade
  16. Preference will be given to the indoors training group\, but we also 
 have two spare spots. We will teach how to lead\, clip\, build a sport anc
 hor\, communicate with the belayer\, catch falls\, etc.\n\nMount Alexandra
  is a perfect crag to learn how to lead and/or climb easy (and hard) grade
 s. Message me on facebook if you want to come\, and we will sort gear out 
 :)\n\nBest\, Maria\n\n&nbsp\;
CATEGORIES:Outdoor Climbing
END:VEVENT
END:VCALENDAR