BEGIN:VCALENDAR
VERSION:2.0
PRODID:-//wp-events-plugin.com//7.2.3.1//EN
TZID:Australia/Sydney
X-WR-TIMEZONE:Australia/Sydney
BEGIN:VEVENT
UID:2166@unswoc.org
DTSTART;VALUE=DATE:20170826
DTEND;VALUE=DATE:20170827
DTSTAMP:20170820T011917Z
URL:https://unswoc.org/wordpress/events/transition-outdoors-leading-trip/
SUMMARY:Transition to Outdoors leading trip
DESCRIPTION:Hi everyone :)\n\nThis trip is aimed at people who can already 
 lead at the gym but want to transition to leading outdoors*\n\nMain aims:\
 n\n	transition of lead belay skills from gym to outdoors\n	Getting comfort
 able using carrot bolts (hopefully\, if the place we go to has them) and p
 lacing draws\n	Learning to clean a route to get your draws off\n\nWhat you
 'll need:\n\n	harness\, shoes\, chalkbag\n	helmet\n	safety sling\n	ATC\n	l
 ocking biner X3\n\nPlease fill in the form below (unless you were part of 
 the lead climb training group and have already filled it out)\n\nhttps://d
 ocs.google.com/spreadsheets/d/16h9NakiO3-MavF4ODsDNmSq9dG93_FVjmAUgc2NgFuw
 /edit?usp=sharing\n\nLocation TBC. Probably one Mt Alex (https://www.thecr
 ag.com/climbing/australia/mt-alexandra)\, Narrabeen slabs (https://www.the
 crag.com/climbing/australia/northern-beaches/area/13101841) and maybe Mt Y
 ork (https://www.thecrag.com/climbing/australia/blue-mountains/blaxland-gu
 lly)\n\nPlease note that:\n\n	the number of places approved depends on the
  number of leaders we get - so the 'available places' at the bottom of thi
 s page is not necessarily reflective of the number of actual spots.\n	Beca
 use of the limited number of climbs in the 15-18 range at most crags\, you
  might have to wait for climbs - so don't expect to get like 10 routes in 
 (unless you want to lead harder stuff)\n\n*We recommend that even after th
 is training trip you go outdoors only with experienced climbers who can co
 ntinue to check and supervise your skills
CATEGORIES:Outdoor Climbing,Training
END:VEVENT
END:VCALENDAR