BEGIN:VCALENDAR
VERSION:2.0
PRODID:-//wp-events-plugin.com//7.2.3.1//EN
TZID:Australia/Sydney
X-WR-TIMEZONE:Australia/Sydney
BEGIN:VEVENT
UID:1452@unswoc.org
DTSTART:20150826T070000Z
DTEND:20150826T110000Z
DTSTAMP:20150825T070316Z
URL:https://unswoc.org/wordpress/events/tram-shed-cleanup-night/
SUMMARY:Tram shed Cleanup night
DESCRIPTION:It's time for the tram sheds to have a clean up and for some bo
 ats to be fixed.\n\nMeet at the tram sheds at the UNSW Randwick campus at 
 6pm or whenever you can make it\, we should be going until about 10pm. Bee
 r and pizza will be provided to those who help!
CATEGORIES:Social Event
LOCATION:\, \, 
X-APPLE-STRUCTURED-LOCATION;VALUE=URI;X-ADDRESS=\, ;X-APPLE-RADIUS=100;X-TI
 TLE=:geo:0,0
END:VEVENT
END:VCALENDAR