BEGIN:VCALENDAR
VERSION:2.0
PRODID:-//wp-events-plugin.com//7.2.3.1//EN
TZID:Australia/Sydney
X-WR-TIMEZONE:Australia/Sydney
BEGIN:VEVENT
UID:2070@unswoc.org
DTSTART:20161012T053000Z
DTEND:20161012T080000Z
DTSTAMP:20161010T021309Z
URL:https://unswoc.org/wordpress/events/training-orienteering-practical-na
 vigation-workshop/
SUMMARY:TRAINING - ORIENTEERING PRACTICAL NAVIGATION WORKSHOP
DESCRIPTION:\n\nNavigation is a skill that you can never hope to master by 
 reading articles or watching presentations. The best way to learn how to n
 avigate or to improve your navigation is to practice! That's why I am runn
 ing a practical orienteering workshop this Wednesday at Centennial Park!\n
 \nThe course will be suitable for anyone\, whether you are a beginner or y
 ou want to learn some new tricks and tips to enhance your navigation skill
 s. The topics we will cover (both in theory and then practice) will be:\n\
 n	Basic map reading - Contours and Symbols\n	Compass - Orienting the map a
 nd bearings\n	Route choice - Terrain\, thickness and speed consideration\n
 	Advanced topics if time permits\n\nThe course will start at 4:30PM and wi
 ll be done before dark at the latest by 7PM.\n\nWe will meet in Centennial
  Park out the front of Centennial Homestead\, see location here: https://
 www.google.com.au/maps/place/33%C2%B053'39.9%22S+151%C2%B014'00.1%22E/@-33
 .894424\,151.2328138\,19z/data=!3m1!4b1!4m5!3m4!1s0x0:0x0!8m2!3d-33.894424
 !4d151.233361\n\nI might also be able to give a lift from uni if you send 
 me a message on Facebook.\n\nWhat to bring:\n\n	Running clothes and shoes.
 \n	Water\n	A pen\n	$1 to pay for the colour printing of maps\n	A compass (
 if you haven't got one I have some from the club)\n\nIMPORTANT: If you hav
 e your own compass PLEASE let me know because they are the current limitin
 g factor on numbers and that way I can open up more spots for other people
  to come along as well.\n\nAny questions (or if you have a compass) don't 
 hesistate to get in touch with me (Andrew Barnett on Facebook).\n\n0439735
 393\n\nandrew.barnett.au@gmail.com
CATEGORIES:Training
END:VEVENT
END:VCALENDAR