BEGIN:VCALENDAR
VERSION:2.0
PRODID:-//wp-events-plugin.com//7.2.3.1//EN
TZID:Australia/Sydney
X-WR-TIMEZONE:Australia/Sydney
BEGIN:VEVENT
UID:2634@unswoc.org
DTSTART;TZID=Australia/Sydney:20200319T170000
DTEND;TZID=Australia/Sydney:20200319T200000
DTSTAMP:20200314T072321Z
URL:https://unswoc.org/wordpress/events/training-at-the-ledge-clean-a-spor
 t-climb/
SUMMARY:Training at The Ledge - Clean a Sport Climb
DESCRIPTION:Hi Everyone!\n\nEver wonder what a trip leader does when everyo
 ne has finished a sport climb? How do they retrieve all that stuff hanging
  off 2 bolts?\n\nI'll be teaching you how to clean a sport climb - that is
  remove all gear from the anchor and get back down to the ground safely.\n
 \nDate: 19th March 2020 (This Thursday)\n\nTime: 1800-1900hrs Please don't
  be late!\n\nPlace: The Ledge\n\nGear you'll need (this can be obtained fr
 om Gear Night - check Facebook for time):\n\n 	1 X Harness\n 	1 X ATC\n 	1
  X Sling\n 	2 X Locking Karabiners\n 	1 X Quickdraw (optional)\n\nThis cou
 rse is most suited to those who are learning lead climbing and have a basi
 c grasp of Sport Climbing.\n\nIf you're interested\, sign up and mention i
 n the comments the following:\n\n 	How much outdoor climbing experience do
  you have\n 	Can you lead climb?\n 	Can you obtain all gear listed?\n\n&nb
 sp\;\n\nThank you!\n\nBrendon Yiu
CATEGORIES:Climbing,Training
END:VEVENT
BEGIN:VTIMEZONE
TZID:Australia/Sydney
X-LIC-LOCATION:Australia/Sydney
BEGIN:DAYLIGHT
DTSTART:20191006T030000
TZOFFSETFROM:+1000
TZOFFSETTO:+1100
TZNAME:AEDT
END:DAYLIGHT
END:VTIMEZONE
END:VCALENDAR