BEGIN:VCALENDAR
VERSION:2.0
PRODID:-//wp-events-plugin.com//7.2.3.1//EN
TZID:Australia/Sydney
X-WR-TIMEZONE:Australia/Sydney
BEGIN:VEVENT
UID:2271@unswoc.org
DTSTART;VALUE=DATE:20180812
DTEND;VALUE=DATE:20180813
DTSTAMP:20180813T053628Z
URL:https://unswoc.org/wordpress/events/trad-workshop/
SUMMARY:Sport Climbing at Bonnet Bay
DESCRIPTION:Come join Sophie\, Julie and myself (Henry) this Saturday the 1
 8th for some climbing at Bonnet Bay (next to Sutherland).\n\nAll abilities
  welcome\, we will put up some top ropes or there are grades down to 15 fo
 r potential leads.\n\nPlease fill out the form below with details car\, ex
 perience etc. Shoot Henry a message on facebook if you have any questions.
 \n\nYou will need:\n\n 	*Helmet\n 	*Harness\n 	*Belay device + Locking Car
 abiner\n 	*Climbing Shoes\n 	Food + water (at least 1.5L!!)\n 	Backpack to
  carry the above\n 	warm clothing most likely!\n 	petrol money for you dri
 ver\n 	good vibes\n\n*These items can be borrowed from the club\nPlease ei
 ther message me or put in the comments if you require any gear!
CATEGORIES:Outdoor Climbing
END:VEVENT
END:VCALENDAR