BEGIN:VCALENDAR
VERSION:2.0
PRODID:-//wp-events-plugin.com//7.2.3.1//EN
TZID:Australia/Sydney
X-WR-TIMEZONE:Australia/Sydney
BEGIN:VEVENT
UID:2743@unswoc.org
DTSTART;TZID=Australia/Sydney;VALUE=DATE:20201004
DTEND;TZID=Australia/Sydney;VALUE=DATE:20201005
DTSTAMP:20200928T121217Z
URL:https://unswoc.org/wordpress/events/trad-trip/
SUMMARY:Trad Trip!!
DESCRIPTION:HI\,\n\nTo all those out there wanting to get their hands into 
 some cracks and there minds on some more traditional Climbing or maybe jus
 t to watch some whales\, Pat and I will be running a trip to point perp o
 n Sunday of the long weekend.\n\nBeginners to experienced! Add in the comm
 ents your skill level so I can get an idea. We will go through the gear\, 
 how to place it and do some placing on top rope before jumping on lead if 
 you feel comfortable.\n\nIt will be busy because of the long weekend so be
  prepared for an early start.\n\nwhat to bring:\n\n- harness\n\n- helmet\n
 \n- ATC\, and SAFTEY\n\n- any trad gear that you have (there will be club 
 gear to use as well)\n\n- lunch\n\n- hat\n\n- water\n\n- Warm cloths (poin
 t perp can be cold)\n\n&nbsp\;\n\nLet me know if you have any questions!\n
 \nMira
ATTACH;FMTTYPE=image/jpeg:https://unswoc.org/wordpress/wp-content/uploads/
 2020/09/56910EDF-314C-4DA8-8116-3A83EA359C18.jpeg
END:VEVENT
BEGIN:VTIMEZONE
TZID:Australia/Sydney
X-LIC-LOCATION:Australia/Sydney
BEGIN:STANDARD
DTSTART:20200405T020000
TZOFFSETFROM:+1100
TZOFFSETTO:+1000
TZNAME:AEST
END:STANDARD
BEGIN:DAYLIGHT
DTSTART:20201004T030000
TZOFFSETFROM:+1000
TZOFFSETTO:+1100
TZNAME:AEDT
END:DAYLIGHT
END:VTIMEZONE
END:VCALENDAR