BEGIN:VCALENDAR
VERSION:2.0
PRODID:-//wp-events-plugin.com//7.2.3.1//EN
TZID:Australia/Sydney
X-WR-TIMEZONE:Australia/Sydney
BEGIN:VEVENT
UID:2770@unswoc.org
DTSTART;TZID=Australia/Sydney;VALUE=DATE:20201122
DTEND;TZID=Australia/Sydney;VALUE=DATE:20201123
DTSTAMP:20201117T215722Z
URL:https://unswoc.org/wordpress/events/trad-trip-sunday-22nd-nov/
SUMMARY:Trad trip - Sunday 22nd Nov
DESCRIPTION:There will be a rad trad climbing trip this Sunday the 22nd of 
 November. Exact location will depend on signs up but we're thinking either
  Piddo or Ikara.\n\nAll welcome\, sign up if you're keen :)\n\nThings to b
 ring:\n\n 	Harness\n 	Helmet\n 	ATC\n 	Climbing shoes\n 	Safety\n 	Lunch\n
  	At least 2l Water\n 	Hat\, sunscreen etc\n 	warm jumper\n 	any trad gear
  you already own\n 	Headtorch\n\nThe plan will be to meet at 9.30 am at th
 e carpark of the crag.\n\nLet me know in the comments what your experience
  is and if you have any preference of crag. Feel free to message me on fb 
 with any questions! (Jenny Stansby)\n\nGET KEEN!!\n\n[caption id="attachme
 nt_12460" align="aligncenter" width="1024"] Climbing Eternity on the last 
 trad trip![/caption]
ATTACH;FMTTYPE=image/jpeg:https://unswoc.org/wordpress/wp-content/uploads/
 2020/11/IMG20201114164322.jpg
CATEGORIES:Climbing,Outdoor Climbing
END:VEVENT
BEGIN:VTIMEZONE
TZID:Australia/Sydney
X-LIC-LOCATION:Australia/Sydney
BEGIN:DAYLIGHT
DTSTART:20201004T030000
TZOFFSETFROM:+1000
TZOFFSETTO:+1100
TZNAME:AEDT
END:DAYLIGHT
END:VTIMEZONE
END:VCALENDAR