BEGIN:VCALENDAR
VERSION:2.0
PRODID:-//wp-events-plugin.com//7.2.3.1//EN
TZID:Australia/Sydney
X-WR-TIMEZONE:Australia/Sydney
BEGIN:VEVENT
UID:2763@unswoc.org
DTSTART;TZID=Australia/Sydney;VALUE=DATE:20201114
DTEND;TZID=Australia/Sydney;VALUE=DATE:20201115
DTSTAMP:20201109T221404Z
URL:https://unswoc.org/wordpress/events/trad-trip-saturday-14th-nov/
SUMMARY:Trad trip - Saturday 14th Nov
DESCRIPTION:Ash and I (Jenny) will be running a climbing trip this Saturday
  the 14th of November with the help of Mira to Mt. Piddington to teach som
 e trad climbing skills.\n\nSign up if you're keen\, preference will be giv
 en to those looking to practice gear placements on (mock) lead :)\n\nThing
 s to bring:\n\n 	Harness\n 	Helmet\n 	ATC\n 	Climbing shoes\n 	Safety\n 	L
 unch\n 	At least 2l Water\n 	Hat\, sunscreen etc\n 	warm jumper\n 	any tra
 d gear you already own\n 	Headtorch\n\nThe plan will be to meet at 9.30 am
  at the carpark of the crag.\n\nLet me know in the comments what your expe
 rience is/what you are hoping to get out of the day\, feel free to message
  me (Jenny Stansby)\n\nGET KEEN!!\n\n
ATTACH;FMTTYPE=image/jpeg:https://unswoc.org/wordpress/wp-content/uploads/
 2020/07/Jenny-1.jpg
CATEGORIES:Climbing,Outdoor Climbing,Training
END:VEVENT
BEGIN:VTIMEZONE
TZID:Australia/Sydney
X-LIC-LOCATION:Australia/Sydney
BEGIN:DAYLIGHT
DTSTART:20201004T030000
TZOFFSETFROM:+1000
TZOFFSETTO:+1100
TZNAME:AEDT
END:DAYLIGHT
END:VTIMEZONE
END:VCALENDAR