BEGIN:VCALENDAR
VERSION:2.0
PRODID:-//wp-events-plugin.com//7.2.3.1//EN
TZID:Australia/Sydney
X-WR-TIMEZONE:Australia/Sydney
BEGIN:VEVENT
UID:2912@unswoc.org
DTSTART;TZID=Australia/Sydney;VALUE=DATE:20210605
DTEND;TZID=Australia/Sydney;VALUE=DATE:20210606
DTSTAMP:20210601T070722Z
URL:https://unswoc.org/wordpress/events/trad-trip-2/
SUMMARY:Trad Trip!!
DESCRIPTION:Hi\,\n\nTo all those out there wanting to get their hands on so
 me crack (climbing)\, I (Mira) will be running a trip to Mt Piddington on 
 Saturday.\n\nBeginner to experienced! Add in the comments your experience 
 (can you lead belay?). We can go through the gear\, how to place it and do
  some placing on top rope or just jump on lead if you feel comfortable. Yo
 u also might just be lucky enough to watch me scrabble up my project and g
 ive it a crack yourself if you want!\n\nwhat to bring:\n\n- harness\n\n- h
 elmet\n\n- ATC\, and SAFTEY\n\n- any trad gear that you have (there will b
 e club gear to use as well)\n\n- lunch\n\n- hat\n\n- water\n\n- Warm cloth
 s (Like really)\n\n&nbsp\;\n\nLet me know if you have any questions!\n\nMi
 ra
ATTACH;FMTTYPE=image/jpeg:https://unswoc.org/wordpress/wp-content/uploads/
 2021/01/C2138458-2FC9-42E4-87A2-0C6C8737C794-miranda-jordan.jpeg
END:VEVENT
BEGIN:VTIMEZONE
TZID:Australia/Sydney
X-LIC-LOCATION:Australia/Sydney
BEGIN:STANDARD
DTSTART:20210404T020000
TZOFFSETFROM:+1100
TZOFFSETTO:+1000
TZNAME:AEST
END:STANDARD
END:VTIMEZONE
END:VCALENDAR