BEGIN:VCALENDAR
VERSION:2.0
PRODID:-//wp-events-plugin.com//7.2.3.1//EN
TZID:Australia/Sydney
X-WR-TIMEZONE:Australia/Sydney
BEGIN:VEVENT
UID:2399@unswoc.org
DTSTART:20190403T073000Z
DTEND:20190403T093000Z
DTSTAMP:20190331T211208Z
URL:https://unswoc.org/wordpress/events/trad-gear-and-anchors/
SUMMARY:Trad gear and anchors theory
DESCRIPTION:Hi everyone! This Wednesday evening 6:30pm I'll be running thro
 ugh the theory of trad gear and anchors. Location TBC\, probably law build
 ing.\n\nIt's a great opportunity to discuss everything trad\, learn about 
 good uses of nuts\, slings\, hexes and cams and what we look for in placin
 g gear and building anchors.\n\nThis will be useful for people new to trad
  as well as those who've already climbed trad. I'll tailor the topics and 
 discussion to the experience\, and I'm sure I can learn from you too
END:VEVENT
END:VCALENDAR