BEGIN:VCALENDAR
VERSION:2.0
PRODID:-//wp-events-plugin.com//7.2.3.1//EN
TZID:Australia/Sydney
X-WR-TIMEZONE:Australia/Sydney
BEGIN:VEVENT
UID:2895@unswoc.org
DTSTART;TZID=Australia/Sydney;VALUE=DATE:20210418
DTEND;TZID=Australia/Sydney;VALUE=DATE:20210419
DTSTAMP:20210414T105201Z
URL:https://unswoc.org/wordpress/events/trad-climbing-trip-sunday/
SUMMARY:Trad Climbing Trip - SUNDAY
DESCRIPTION:On Sunday Mira and I(Cam) will be running a trad climbing trip 
 at Mount Piddington This is a great opportunity to learn more about trad g
 ear and trad placements or just get out climbing.\n\nThe plan: Early morni
 ng carpool from Sydney (those with a car will be given preference) \, spen
 d an awesome day climbing\, drive back to Sydney in the evening / night. W
 e'll aim to meet at the carpark by 9:30AM\n\nYou will need to bring:\n\nCl
 imbing gear:\n\n 	Harness*\n 	Climbing Shoes*\n 	Helmet*\n 	Belay device a
 nd locking carabiner*\n 	Chalk Bag (optional but recommended)\n 	Any trad
  gear you own\n\n(*) – Can be borrowed from the gear shed at UNSW 4-5pm 
 Thursday\, hire is free for club trips but remember to bring cash for a de
 posit!\n\nOther:\n\n 	At least 2L of water\n 	Food and snacks for the day\
 n 	Sunscreen\n 	Personal medicines (epipen\, antihistamines\, etc.)\n 	En
 closed comfortable shoes for the approach + a warm jacket (gets very chill
 y up there…)\n 	A head torch (just incase we are too psyched to leave b
 efore dark…)\n 	Some cash for petrol for your driver.\n\nGet keen!!!
CATEGORIES:Outdoor Climbing
END:VEVENT
BEGIN:VTIMEZONE
TZID:Australia/Sydney
X-LIC-LOCATION:Australia/Sydney
BEGIN:STANDARD
DTSTART:20210404T020000
TZOFFSETFROM:+1100
TZOFFSETTO:+1000
TZNAME:AEST
END:STANDARD
END:VTIMEZONE
END:VCALENDAR