BEGIN:VCALENDAR
VERSION:2.0
PRODID:-//wp-events-plugin.com//7.2.3.1//EN
TZID:Australia/Sydney
X-WR-TIMEZONE:Australia/Sydney
BEGIN:VEVENT
UID:2279@unswoc.org
DTSTART;VALUE=DATE:20180902
DTEND;VALUE=DATE:20180903
DTSTAMP:20180901T102745Z
URL:https://unswoc.org/wordpress/events/trad-climbing-piddo-intermediate-t
 rip/
SUMMARY:Trad climbing at Piddo: intermediate trip
DESCRIPTION:Hey frothers\,\n\nBeen climbing for a while and finding yoursel
 f trad-curious? It's totally natural\, don't worry. Come and see what it's
  all about with Abi and I at Piddo (or another mountains crag\, pending co
 nditions/whims) next sunday.\n\nWe will leave Sydney in the early am\, and
  be back after dark. We need two more drivers.\n\nTo be clear: no trad exp
 erience required\, but general climbing experience is.\n\nPlease message m
 e if you are interested\, and let me know your level of experience\, wheth
 er you can drive\, and if you need to borrow any gear.
END:VEVENT
END:VCALENDAR