BEGIN:VCALENDAR
VERSION:2.0
PRODID:-//wp-events-plugin.com//7.2.3.1//EN
TZID:Australia/Sydney
X-WR-TIMEZONE:Australia/Sydney
BEGIN:VEVENT
UID:3261@unswoc.org
DTSTART;TZID=Australia/Sydney;VALUE=DATE:20230527
DTEND;TZID=Australia/Sydney;VALUE=DATE:20230528
DTSTAMP:20230523T075152Z
URL:https://unswoc.org/wordpress/events/trad-climbing-on-saturday-blue-mou
 ntains-beginner/
SUMMARY:*Trad* Climbing on Saturday - Blue Mountains (Beginner)
DESCRIPTION:&nbsp\;\n\n[caption id="attachment_14741" align="alignnone" wid
 th="225"] Hope (15) @ Piddo[/caption]\n\n&nbsp\;\n\nThe lovely Nic DC and 
 I (Xab) will be leading a beginner-friendly climbing trip to the Blue Moun
 tains (likely Mt. Piddington) this SATURDAY\, 27 May. Mt. Piddington is a 
 classic crag for a wonderful introduction to Trad Climbing. It also gets s
 un (very important) for the most part of the day.\n\nYou'll get more if yo
 u have some climbing experience (e.g. lead climbing and lead belaying) so 
 you can focus on getting more trad-specific skills. However\, no climbing 
 experience is required as we'll set up climbs for you to second or top rop
 e.\n\n&nbsp\;\n\nPlease bring:\n\n 	Gear:\n\n 	harness*\n 	helmet*\n 	clim
 bing shoes*\n 	ATC + locking carabiner*\n 	climbing tape or crack gloves t
 o protect your hands (not essential).\n 	other trad climbing gear you may 
 have (e.g. nuts\, cams\, retro gear)\n\n\n 	What to bring:\n\n 	sunscreen\
 , sun protection\n 	2L water (minimum!)\n 	food for the day\,\n 	sporty cl
 othes\, warm(!) layers (we are expecting some frost)\n 	backpack to fit al
 l your stuff inside + room for more gear\n 	comfortable shoes to hike in a
 nd out\n\n\n 	Meeting point:\n\n 	To be discussed when we form the FB chat
 \n\n\n\n*Can be borrowed from the gear shed. Please check the UNSWOC FB pa
 ge for weekly gear night.\n\nIn the comments box\, please tell us about yo
 ur previous climbing experience (if applicable\, trad/sport lead climb\, l
 ead belay)\, whether you will be driving your own car (and how many total 
 seats)\, and what is your favorite hot drink to be considered for this tri
 p 🙂. Make sure to include your FB profile name.\n\n\nPlease be aware th
 at as the weather is unpredictable\, trip leaders may need to alter trips 
 accordingly. Any questions\, shoot me or Nic a FB message or put your ques
 tion in the comments box.\n\n&nbsp\;
CATEGORIES:Climbing,Outdoor Climbing
END:VEVENT
BEGIN:VTIMEZONE
TZID:Australia/Sydney
X-LIC-LOCATION:Australia/Sydney
BEGIN:STANDARD
DTSTART:20230402T020000
TZOFFSETFROM:+1100
TZOFFSETTO:+1000
TZNAME:AEST
END:STANDARD
END:VTIMEZONE
END:VCALENDAR