BEGIN:VCALENDAR
VERSION:2.0
PRODID:-//wp-events-plugin.com//7.2.3.1//EN
TZID:Australia/Sydney
X-WR-TIMEZONE:Australia/Sydney
BEGIN:VEVENT
UID:2567@unswoc.org
DTSTART;TZID=Australia/Sydney;VALUE=DATE:20191027
DTEND;TZID=Australia/Sydney;VALUE=DATE:20191028
DTSTAMP:20191019T014750Z
URL:https://unswoc.org/wordpress/events/trad-climbing-old-baldy-intermedia
 te-advanced/
SUMMARY:BL Sunday - Trad Climbing (Old Baldy) Intermediate/Advanced
DESCRIPTION:Cameron and I (Henry) are leading a trad climbing trip to Old B
 aldy. By far the best trip in Boree Log!\n\nhttps://www.thecrag.com/climbi
 ng/australia/wolgan-valley/area/12042559\n\nTo come on this trip you MUST
 \n\n 	Know how to LEAD BELAY\n 	Have climbed TRAD before or be a strong sp
 ort climber (grade 16-18+ outdoors)\n\nIn this trip you can learn or pract
 ise a bit about\n\n 	Trad placements\n 	Trad anchors\n 	Multipitch techniq
 ue\n 	Plus climb a really awesome 100m cliff!\n\nWe will borrow the gear f
 rom the Boree Log directly. Please\, bring any personal climbing gear that
  you have. If you have a car\, you'll get preference! For the day you will
  need water and food\, appropiate clothing for climbing\, personal meds (i
 f needed) and a HEADTORCH.\n\n*Comment your previous climbing experience s
 o we know if this trip is for you*\n\nI'm super excited already so sign up
 ! Cheers\, Cameron &amp\; Henry :)
END:VEVENT
BEGIN:VTIMEZONE
TZID:Australia/Sydney
X-LIC-LOCATION:Australia/Sydney
BEGIN:DAYLIGHT
DTSTART:20191006T030000
TZOFFSETFROM:+1000
TZOFFSETTO:+1100
TZNAME:AEDT
END:DAYLIGHT
END:VTIMEZONE
END:VCALENDAR