BEGIN:VCALENDAR
VERSION:2.0
PRODID:-//wp-events-plugin.com//7.2.3.1//EN
TZID:Australia/Sydney
X-WR-TIMEZONE:Australia/Sydney
BEGIN:VEVENT
UID:2360@unswoc.org
DTSTART;VALUE=DATE:20190303
DTEND;VALUE=DATE:20190304
DTSTAMP:20190225T012055Z
URL:https://unswoc.org/wordpress/events/trad-climbing-learn-trad-intermedi
 ate-trip/
SUMMARY:Trad Climbing/Learn to Trad (Intermediate Trip)
DESCRIPTION:Hey All\n\nAbi\, Jenny and I will be running a Learn to Trad tr
 ip to the Blue Mountains this Sunday. Location TBA\, likely Mt Piddington 
 but will be weather dependent. We will be leaving Sydney early and returni
 ng late.\n\nThis trip is suitable for intermediate climbers who can lead c
 limb and belay on sport\, abseil etc. You will have the opportunity to lea
 rn to and practice placing gear\, second lead climbers/mock lead and start
  leading if you're comfortable. Priority will be given to those who have e
 xpressed previous interest and engaged in self-learning for trad.\n\nShoot
  us a message if you're interested outlining your level of experience and 
 if you can drive.\n\nWhat you will need:\n\n 	Rock climbing shoes**\n 	Hel
 met**\n 	Harness**\n 	Belay device and locking biner**\n 	Prusik**\n 	Food
  and water for the day. At least 1.5L of water\n 	Walking shoes\n 	Backpac
 k for all the above\n\n** These can be borrowed from the club if you don't
  have your own.\n\nCheers\n\n&nbsp\;
CATEGORIES:Outdoor Climbing
END:VEVENT
END:VCALENDAR