BEGIN:VCALENDAR
VERSION:2.0
PRODID:-//wp-events-plugin.com//7.2.3.1//EN
TZID:Australia/Sydney
X-WR-TIMEZONE:Australia/Sydney
BEGIN:VEVENT
UID:2428@unswoc.org
DTSTART;TZID=Australia/Sydney;VALUE=DATE:20190629
DTEND;TZID=Australia/Sydney;VALUE=DATE:20190630
DTSTAMP:20190624T005607Z
URL:https://unswoc.org/wordpress/events/trad-climbing-at-piddo/
SUMMARY:Trad Climbing At Piddo
DESCRIPTION:Hayden and I (Henry) will lead be leading a trad climbing trip 
 on Saturday to Mt Piddington\n\nThe climbs are mostly crack and will gener
 ally be in the upper teens\, to get full value it would be best if you've 
 done some climbing before\, but don't worry we all start somewhere!\n\nFor
 ecast is for cold weather\, so warm clothing is a must. Layers will be goo
 d so you can take something off while you climb.\nIf you're keen tell me y
 our outdoor experience in the comments.\n\nYou will need:\n\n 	*Helmet\n 	
 *Harness\n 	*Belay device + Locking Carabiner\n 	*Climbing Shoes\n 	Food +
  water (at least 1.5L!!)\n 	Backpack to carry the above\n 	WARM CLOTHING\n
  	petrol money for you driver\n 	good vibes\n\n*These items can be borrowe
 d from the club on gear night.
END:VEVENT
BEGIN:VTIMEZONE
TZID:Australia/Sydney
X-LIC-LOCATION:Australia/Sydney
BEGIN:STANDARD
DTSTART:20190407T020000
TZOFFSETFROM:+1100
TZOFFSETTO:+1000
TZNAME:AEST
END:STANDARD
END:VTIMEZONE
END:VCALENDAR