BEGIN:VCALENDAR
VERSION:2.0
PRODID:-//wp-events-plugin.com//7.2.3.1//EN
TZID:Australia/Sydney
X-WR-TIMEZONE:Australia/Sydney
BEGIN:VEVENT
UID:3291@unswoc.org
DTSTART;TZID=Australia/Sydney;VALUE=DATE:20230716
DTEND;TZID=Australia/Sydney;VALUE=DATE:20230717
DTSTAMP:20230715T232445Z
URL:https://unswoc.org/wordpress/events/trad-climbing-at-piddo-beginner-in
 termediate/
SUMMARY:Trad Climbing at Piddo (Beginner/Intermediate)
DESCRIPTION:Heya folks!\n\nSarah and I (Pat) will be leading a trad climbin
 g trip this Sunday to Mt Piddington\, one of the most lovely trad crags in
  the blueys. You can find more info on thecrag here.\n\nNo prior climbing 
 experience is necessary\, as we'll be setting up climbs for you to toprope
  or second\, but it helps if you've had some practice lead climbing and le
 ad belaying. We'll be happy to teach fundamental trad climbing skills\, li
 ke crack climbing and gear placements\, as well as pretty much any other r
 elevant climbing skills.\n\nYou'll need this gear for the trip:\n\n 	Harne
 ss*\n 	Helmet*\n 	ATC + carabiner*\n 	Climbing shoes*\n 	Minimum 2L water\
 n 	Lunch + snacks\n 	Sunscreen\n 	Shoes that you can hike to the crag in\n
  	Climbing chalk\, crack gloves (if you have)\n\n*This gear can be borrowe
 d from the gear cupboard on Thursday.\n\nIn the comments\, let us know abo
 ut your climbing experience\, what gear you would need to borrow\, how man
 y spare seats you have if you've got a car\, and your favourite snack.\n\n
 If you've any questions\, feel free to message Sarah or I on Facebook. See
  you there!
CATEGORIES:Outdoor Climbing
LOCATION:https://www.google.com.au/maps/place/Mount+Piddington/@-33.5997726
 ,150.2570921,17.52z/data=!4m6!3m5!1s0x6b127302244ff1d1:0xdf72b655192b6ceb!
 8m2!3d-33.5997159!4d150.2577048!16s%2Fm%2F02z1w_n?entry=ttu
END:VEVENT
BEGIN:VTIMEZONE
TZID:Australia/Sydney
X-LIC-LOCATION:Australia/Sydney
BEGIN:STANDARD
DTSTART:20230402T020000
TZOFFSETFROM:+1100
TZOFFSETTO:+1000
TZNAME:AEST
END:STANDARD
END:VTIMEZONE
END:VCALENDAR