BEGIN:VCALENDAR
VERSION:2.0
PRODID:-//wp-events-plugin.com//7.2.3.1//EN
TZID:Australia/Sydney
X-WR-TIMEZONE:Australia/Sydney
BEGIN:VEVENT
UID:2443@unswoc.org
DTSTART;TZID=Australia/Sydney;VALUE=DATE:20190728
DTEND;TZID=Australia/Sydney;VALUE=DATE:20190729
DTSTAMP:20190723T212858Z
URL:https://unswoc.org/wordpress/events/trad-climbing-at-piddo-2/
SUMMARY:Trad Climbing At Piddo
DESCRIPTION:Abi and I (Stephen) will lead be leading a trad climbing trip o
 n Sunday to Mt Piddington\n\nThe climbs are mostly crack and will generall
 y be in the mid to upper teens\, to get full value it would be best if you
 ’ve done some climbing before\, but don’t worry we all start somewhere
 !\n\nForecast is for cold weather\, so warm clothing is a must. Layers wil
 l be good so you can take something off while you climb.\n\nIf you’re ke
 en tell me your outdoor experience in the comments\, we also need one more
  driver so mention if you've got a car and are able to drive. If you've go
 t any questions feel free to message me or Abi on facebook.\n\nYou will ne
 ed:\n\n 	*Helmet\n 	*Harness\n 	*Belay device + Locking Carabiner\n 	*Clim
 bing Shoes\n 	Food + water (at least 1.5L!!)\n 	Backpack to carry the abov
 e\n 	WARM CLOTHING\n 	petrol money for you driver\n 	good vibes\n\n*These 
 items can be borrowed from the club on gear night (Wed 4:30-5 and Thu 4-5 
 this week).\n\nCheers to Henry for the event template.
CATEGORIES:Outdoor Climbing
END:VEVENT
BEGIN:VTIMEZONE
TZID:Australia/Sydney
X-LIC-LOCATION:Australia/Sydney
BEGIN:STANDARD
DTSTART:20190407T020000
TZOFFSETFROM:+1100
TZOFFSETTO:+1000
TZNAME:AEST
END:STANDARD
END:VTIMEZONE
END:VCALENDAR