BEGIN:VCALENDAR
VERSION:2.0
PRODID:-//wp-events-plugin.com//7.2.3.1//EN
TZID:Australia/Sydney
X-WR-TIMEZONE:Australia/Sydney
BEGIN:VEVENT
UID:3180@unswoc.org
DTSTART;TZID=Australia/Sydney;VALUE=DATE:20230211
DTEND;TZID=Australia/Sydney;VALUE=DATE:20230212
DTSTAMP:20230210T094646Z
URL:https://unswoc.org/wordpress/events/trad-climbing-at-mt-piddington-beg
 inner-intermediate/
SUMMARY:Trad Climbing at Mt Piddington (Beginner-Intermediate)
DESCRIPTION:Hey folks\,\n\nNic and I (Pat) will be running a trad climbing 
 trip this Saturday to Mt Piddington\, the only trad crag in the blue mount
 ains (or so I've heard\, who knows? Don't question it). You can find the i
 nfo about the area on thecrag here.\n\nNo prior climbing experience is nec
 essary\, as we'll be setting up climbs for you to toprope or second\, but 
 it helps if you've had some practice lead climbing and lead belaying. We'l
 l be happy to teach fundamental trad climbing skills\, like crack climbing
  and gear placements\, as well as pretty much any other relevant climbing 
 skills.\n\nYou'll need to bring/borrow this gear to come along:\n\n 	Harne
 ss\n 	Helmet\n 	ATC + carabiner\n 	Climbing shoes\n\nThese can all be borr
 owed from the gear cupboard on Thursday if you need. If you've got climbin
 g chalk and crack gloves they would be super handy as well\, and if you ha
 ve any of your own trad gear please bring it!\n\nYou'll also need to bring
 : minimum 2L water\, lunch\, sunscreen (it's going to be very sunny!) and 
 comfortable shoes to hike in.\n\nIn the comments let us know about any cli
 mbing experience you have\, any gear you would need to borrow\, how many s
 pare seats you have if you've got a car\, and your favourite outdoors spot
  (in Australia or elsewhere!)\n\nIf you've got any questions or concerns f
 eel free to message Nic or I on Facebook. See you there!
CATEGORIES:Climbing,Outdoor Climbing
END:VEVENT
BEGIN:VTIMEZONE
TZID:Australia/Sydney
X-LIC-LOCATION:Australia/Sydney
BEGIN:DAYLIGHT
DTSTART:20221002T030000
TZOFFSETFROM:+1000
TZOFFSETTO:+1100
TZNAME:AEDT
END:DAYLIGHT
END:VTIMEZONE
END:VCALENDAR