BEGIN:VCALENDAR
VERSION:2.0
PRODID:-//wp-events-plugin.com//7.2.3.1//EN
TZID:Australia/Sydney
X-WR-TIMEZONE:Australia/Sydney
BEGIN:VEVENT
UID:2578@unswoc.org
DTSTART;TZID=Australia/Sydney;VALUE=DATE:20191109
DTEND;TZID=Australia/Sydney;VALUE=DATE:20191110
DTSTAMP:20191106T065151Z
URL:https://unswoc.org/wordpress/events/trad-at-piddo-saturday/
SUMMARY:Trad At Piddo (Saturday)
DESCRIPTION:Hey All\n\nJulie and I (Henry) will be running a Trad trip to M
 t Piddington this Saturday.\n\nThis trip is suitable for intermediate clim
 bers. You will have the opportunity to learn to and practice placing gear
 \, second lead climbers/mock lead and start leading if you're comfortable.
  Priority will be given to those who have expressed previous interest and 
 engaged in self-learning for trad.\n\nShoot us a message if you're interes
 ted outlining your level of experience and if you can drive.\n\nWhat you w
 ill need:\n\n 	Rock climbing shoes**\n 	Helmet**\n 	Harness**\n 	Belay dev
 ice and locking biner**\n 	Prusik**\n 	Food and water for the day. At leas
 t 1.5L of water\n 	Walking shoes\n 	Backpack for all the above\n\n** These
  can be borrowed from the club if you don't have your own.\n\nCheers
END:VEVENT
BEGIN:VTIMEZONE
TZID:Australia/Sydney
X-LIC-LOCATION:Australia/Sydney
BEGIN:DAYLIGHT
DTSTART:20191006T030000
TZOFFSETFROM:+1000
TZOFFSETTO:+1100
TZNAME:AEDT
END:DAYLIGHT
END:VTIMEZONE
END:VCALENDAR