BEGIN:VCALENDAR
VERSION:2.0
PRODID:-//wp-events-plugin.com//7.2.3.1//EN
TZID:Australia/Sydney
X-WR-TIMEZONE:Australia/Sydney
BEGIN:VEVENT
UID:2073@unswoc.org
DTSTART:20161017T073000Z
DTEND:20161017T073000Z
DTSTAMP:20161010T110048Z
URL:https://unswoc.org/wordpress/events/trad-102-anchors/
SUMMARY:Trad 102 - Anchors
DESCRIPTION:Hey everyone.\n\nThe second part of intro to Trad climbing - An
 chors!\nLaw Building (room TBA) 6:30pm Monday\n\nYou can't Trad climb if y
 ou don't know how to build a SRENE anchor in a wide variety of situations 
 (2\,3 or 4 pieces of varying distance away from you). Your anchor and your
  gear is your life so come learn as best you can.\n\nIt helps a lot if you
  came to the Basic Anchors course but is not necessary.\n\nI will cover:\n
 \n	SRENE (Strong\, Redundant\, Equalised\, No extension\, Efficient)\n	Cor
 dallette Anchors (Equalette\, Cordallette)\n	Rope Anchors (Cordallette)\n\
 nAnd their pro's and cons.\n\nCheers\,\nBrendan\n\nNB: This does not quali
 fy you to go out trad climbing. You still should have experienced teachers
  and supervisors and learn the process of climbing safely.
END:VEVENT
END:VCALENDAR