BEGIN:VCALENDAR
VERSION:2.0
PRODID:-//wp-events-plugin.com//7.2.3.1//EN
TZID:Australia/Sydney
X-WR-TIMEZONE:Australia/Sydney
BEGIN:VEVENT
UID:2069@unswoc.org
DTSTART:20161012T073000Z
DTEND:20161012T100000Z
DTSTAMP:20161007T130257Z
URL:https://unswoc.org/wordpress/events/trad-101-gear/
SUMMARY:Trad 101 - Gear
DESCRIPTION:Trad 101 - Gear\, 6:30pm\, Law Building\, Wednesday.\n\nHey eve
 ryone. If you've thought you'd like enter the world of traditional climbin
 g (or you already have and could add your input or pick up some tips) here
 's the perfect training sesh - Gear. Sign up below.\n\nThe cams\, nuts\, h
 exes\, offsets\, tricams\, ballnuts\, bigboys\, slings and handjams that h
 old you on the wall are the most important part of staying safe while t-ra
 dical climbing.\n\nI'll cover\n\n	Why Trad Climb? (The fun of it and the p
 laces you can climb)\n	Trad Gear\n	Hexes\, nuts and cams\, how to place we
 ll and what to avoid\n\nThe next sesh the week after will cover how to bui
 ld trad anchors (ie. 3 or more piece anchors)\n\nI'll post which room on t
 he facebook event by 6:30pm!\n\nCheers\,\nBrendan\n\nNote: This does not q
 ualify you to go trad climbing
END:VEVENT
END:VCALENDAR