BEGIN:VCALENDAR
VERSION:2.0
PRODID:-//wp-events-plugin.com//7.2.3.1//EN
TZID:Australia/Sydney
X-WR-TIMEZONE:Australia/Sydney
BEGIN:VEVENT
UID:3305@unswoc.org
DTSTART;TZID=Australia/Sydney:20231102T180000
DTEND;TZID=Australia/Sydney:20231102T200000
DTSTAMP:20231031T224408Z
URL:https://unswoc.org/wordpress/events/tlit-series-week-three-lead-climbi
 ng-skills/
SUMMARY:TLIT Series Week Three - Lead Climbing  Skills
DESCRIPTION:What is the TLIT Series?\nThe Trip Leader In Training Series (T
 LIT) is a program that our club runs to upskill the next generation of tri
 p leaders. Over six workshops we will teach a range of technical skills to
  bring club members one step closer to being one of our club trip leaders 
 and helping to bring the amazing the sports we do to more people.\n\nMoreo
 ver\, while some workshops are sport specific (such as the sport and trad 
 workshops) we encourage members to attend all events as they teach valuabl
 e skills you can use across disciplines.\n\nThe workshops will follow the 
 general format of:\n-General Ropework\n-Abseiling and Canyoning\n-Lead Cli
 mbing\n-Trad Climbing\n-Hauling and Rescue\n-Behind the scenes as a TL\n-R
 escue Scenario Day\n\n&nbsp\;\nWho is the TLIT Series for?\nThese workshop
 s are for people who are interested in becoming trip leaders within UNWSOC
  and fall into one or more of the following categories:\n\n 	Have been par
 ticipating in club weekend trips for a period of 6+ months\n 	Have done or
  doing a Cert III + Outdoor Ed course (TAFE)\n 	Are a current Trip Leader 
 and want a refresher and/or expand knowledge base\n 	Have participated in 
 Scouts NSW trips involving ropework and/or training events\n 	Are okay wit
 h pre-learning material before workshops\, as there is large amounts of co
 ntent to cover in one night.\n 	Have experience with rope sports from club
 s or groups\n\nWeek Three – Lead climbing Skills\n\n 	Demonstrate and id
 entify lead climbing techniques and mistakes\n- Clip sticking high first b
 olts\n- z and back clipping\n- Importance of high and waist clips and when
  to do each\n- Effects of rope drag\n- Foot faults\n 	Understand the impor
 tance of correct quickdraw orientation\n- Spine facing climb direction\n- 
 Correct end going to bolt and rope\n 	Understand and inspect different bol
 ts\n- U Bolts\, carrot and bolt plates\, Expansion bolts\n 	Be able to set
  up and inspect a top rope setup\n- Quad anchors\, screws on gates facing 
 down\, opposite and opposed\, importance of screwgates instead of normal q
 uickdraws\, SERENE\n 	Teach correct belaying with an ATC and GriGri (or si
 milar)\n 	Demonstrate the cleaning of a climb ensuring two points of conta
 ct at all times\n 	Demonstrate setting up a top belay with an ATC guide an
 d GriGri\, and understand the importance of redundancy at a belay\n\nComme
 nts\nLet me know your experience level\, why you want to come on this cour
 se\, and your favourite climb/crag/canyon/cave or other outdoor spot!
CATEGORIES:Indoor Climbing,Training
LOCATION:https://goo.gl/maps/2Zfyy3J6YieRdyM8A
END:VEVENT
BEGIN:VTIMEZONE
TZID:Australia/Sydney
X-LIC-LOCATION:Australia/Sydney
BEGIN:DAYLIGHT
DTSTART:20231001T030000
TZOFFSETFROM:+1000
TZOFFSETTO:+1100
TZNAME:AEDT
END:DAYLIGHT
END:VTIMEZONE
END:VCALENDAR