BEGIN:VCALENDAR
VERSION:2.0
PRODID:-//wp-events-plugin.com//7.2.3.1//EN
TZID:Australia/Sydney
X-WR-TIMEZONE:Australia/Sydney
BEGIN:VEVENT
UID:3307@unswoc.org
DTSTART;TZID=Australia/Sydney:20231116T183000
DTEND;TZID=Australia/Sydney:20231116T210000
DTSTAMP:20230919T011150Z
URL:https://unswoc.org/wordpress/events/tlit-series-week-six-behind-the-sc
 enes-as-a-tl/
SUMMARY:TLIT Series Week Six - Behind the Scenes as a TL
DESCRIPTION:What is the TLIT Series?\nThe Trip Leader In Training Series (T
 LIT) is a program that our club runs to upskill the next generation of tri
 p leaders. Over six workshops we will teach a range of technical skills to
  bring club members one step closer to being one of our club trip leaders 
 and helping to bring the amazing the sports we do to more people.\n\nMoreo
 ver\, while some workshops are sport specific (such as the sport and trad 
 workshops) we encourage members to attend all events as they teach valuabl
 e skills you can use across disciplines.\n\nThe workshops will follow the 
 general format of:\n-General Ropework\n-Abseiling and Canyoning\n-Lead Cli
 mbing\n-Trad Climbing\n-Hauling and Rescue\n-Behind the scenes as a TL\n-R
 escue Scenario Day\n\n&nbsp\;\nWho is the TLIT Series for?\nThese workshop
 s are for people who are interested in becoming trip leaders within UNWSOC
  and fall into one or more of the following categories:\n\n 	Have been par
 ticipating in club weekend trips for a period of 6+ months\n 	Have done or
  doing a Cert III + Outdoor Ed course (TAFE)\n 	Are a current Trip Leader 
 and want a refresher and/or expand knowledge base\n 	Have participated in 
 Scouts NSW trips involving ropework and/or training events\n 	Are okay wit
 h pre-learning material before workshops\, as there is large amounts of co
 ntent to cover in one night.\n 	Have experience with rope sports from club
 s or groups\n\n&nbsp\;
LOCATION:http://Online
END:VEVENT
BEGIN:VTIMEZONE
TZID:Australia/Sydney
X-LIC-LOCATION:Australia/Sydney
BEGIN:DAYLIGHT
DTSTART:20231001T030000
TZOFFSETFROM:+1000
TZOFFSETTO:+1100
TZNAME:AEDT
END:DAYLIGHT
END:VTIMEZONE
END:VCALENDAR