BEGIN:VCALENDAR
VERSION:2.0
PRODID:-//wp-events-plugin.com//7.2.3.1//EN
TZID:Australia/Sydney
X-WR-TIMEZONE:Australia/Sydney
BEGIN:VEVENT
UID:3306@unswoc.org
DTSTART;TZID=Australia/Sydney:20231208T110000
DTEND;TZID=Australia/Sydney:20231208T190000
DTSTAMP:20231114T112156Z
URL:https://unswoc.org/wordpress/events/tlit-series-week-five-hauling-and-
 rescue-skills/
SUMMARY:TLIT Series Week Five- Hauling and Rescue Skills
DESCRIPTION:What is the TLIT Series?\nThe Trip Leader In Training Series (T
 LIT) is a program that our club runs to upskill the next generation of tri
 p leaders. Over six workshops we will teach a range of technical skills to
  bring club members one step closer to being one of our club trip leaders 
 and helping to bring the amazing the sports we do to more people.\n\nMoreo
 ver\, while some workshops are sport specific (such as the sport and trad 
 workshops) we encourage members to attend all events as they teach valuabl
 e skills you can use across disciplines.\n\nThe workshops will follow the 
 general format of:\n-General Ropework\n-Abseiling and Canyoning\n-Lead Cli
 mbing\n-Trad Climbing\n-Hauling and Rescue\n-Behind the scenes as a TL\n-R
 escue Scenario Day\n\n&nbsp\;\nWho is the TLIT Series for?\nThese workshop
 s are for people who are interested in becoming trip leaders within UNWSOC
  and fall into one or more of the following categories:\n\n 	Have been par
 ticipating in club weekend trips for a period of 6+ months\n 	Have done or
  doing a Cert III + Outdoor Ed course (TAFE)\n 	Are a current Trip Leader 
 and want a refresher and/or expand knowledge base\n 	Have participated in 
 Scouts NSW trips involving ropework and/or training events\n 	Are okay wit
 h pre-learning material before workshops\, as there is large amounts of co
 ntent to cover in one night.\n 	Have experience with rope sports from club
 s or groups\n\nWeek Five – Hauling and Rescue Skills\n\n 	Demonstrate se
 tups for hauling\n- 2:1 (Counterweight)\, 3:1\, 4:1 (Pig Rig Haul)\, Compl
 ex hauling\n 	Understand the importance of efficiency on mechanical advant
 age\n- Biners vs Pulleys\n 	Understand and implement progress capture devi
 ces on hauling setups\n- Microtraxion\, tibloc\, prussiks\n 	Demonstrate t
 he lowering of appropriate loads on a releasable setups\, including how to
  retie when loaded.\n 	Demonstrate the conversion to a haul (Using appropr
 iate loads) starting from releasable setup and biner block setup.\n 	Demon
 strate lowering past a knot with an MMO and Eight block\n 	Demonstrate abs
 eiling past knots in free-hanging abseil\n 	Demonstrate ascending of ropes
  using prussiks and mechanical ascenders\, ensuring two point of contact w
 ith rope\n 	Demonstrate tying of a variety of common devices\n- GriGri\, E
 ights and modified eights\, tubular devices\n 	Demonstrate the setup and r
 etrieval of retrievable traverse lines\n- Self belay and Munter belay\n 	I
 dentify aquatic hazards such as boils\, hydraulics\, siphons\, sieves\n 	U
 nderstand the importance of self-preservation in aquatic rescue\n- Throw b
 ags\, Buoyant object rescue\n\nComments\nLet me know your experience level
 \, why you want to come on this course\, and your favourite climb/crag/can
 yon/cave or other outdoor spot!
CATEGORIES:Training
LOCATION:https://maps.app.goo.gl/Tur7Ty3fh7r3kVZD6
END:VEVENT
BEGIN:VTIMEZONE
TZID:Australia/Sydney
X-LIC-LOCATION:Australia/Sydney
BEGIN:DAYLIGHT
DTSTART:20231001T030000
TZOFFSETFROM:+1000
TZOFFSETTO:+1100
TZNAME:AEDT
END:DAYLIGHT
END:VTIMEZONE
END:VCALENDAR