BEGIN:VCALENDAR
VERSION:2.0
PRODID:-//wp-events-plugin.com//7.2.3.1//EN
TZID:Australia/Sydney
X-WR-TIMEZONE:Australia/Sydney
BEGIN:VEVENT
UID:3520@unswoc.org
DTSTART;TZID=Australia/Sydney;VALUE=DATE:20250228
DTEND;TZID=Australia/Sydney;VALUE=DATE:20250303
DTSTAMP:20250228T120828Z
URL:https://unswoc.org/wordpress/events/tl-tlit-training-weekend/
SUMMARY:TL + TLIT Training Weekend
DESCRIPTION:Hey guys\,In Week 2 of Term 1\, we're gonna run a TL and TLIT t
 raining weekend. Our aim is to to upskill our TL’s and TLIT’s on skill
 s required to lead trips\, including skills from basic ropework to vertica
 l rescue.\nMalaita Point\n&nbsp\;\nDetails\nThe weekend will follow the ro
 ugh format below\, with majority of the theory occurring on Saturday. We'l
 l then give you the chance to practice these skills out on the rock or in 
 a canyon on Sunday.\n\n\n\nSaturday 1st\nSunday 2nd\n\n\nCanyoning Lvl 1 W
 orkshop\nClimbing Lvl 1 Workshop\nCanyoning Lvl 1 Workshop\nClimbing Lvl 1
  Workshop\n\n\nCanyoning Lvl 2 Workshop\nClimbing Lvl 2 Workshop\nCanyonin
 g Lvl 2 Workshop\nClimbing Lvl 2 Workshop\n\n\n\n&nbsp\;\n\nParticipants w
 ill be assigned a group based on their response to the Trip Leader Progre
 ssion Form\, and will stay with their group the entire weekend.\n\nAn out
 line of the skills in each level can be found here UNSWOC Trip Leader Ski
 llsets V2.\n\nThe format of each two day workshop is up to the discretion 
 of the TLs running the workshops\, and could include clifftop workshops\, 
 at location scenarios\, or workshops at the campsite.\n\nNumber of partici
 pants depends on the number of TL’s available to help run the workshops.
 \n\nAll workshops will be run around the upper Blue Mtns and we will be ca
 mping at Cathedral Reserve on the Saturday night.\n\n&nbsp\;\nDirty Rotten
  Pigs\n&nbsp\;\n\n&nbsp\;\nPrereading\nUNSWOC's Trip Leader Progression Fo
 rmat:\n\nTrip Leader Training and Progression\n\nSkills being taught:\n\nT
 rip Leader Assessment Criteria\n\nGeneral Ropework:\n\nGeneral Rope Sports
  Manual V2\n\nCanyoning:\n\nCanyoning Training Manual V5\n\nClimbing:\n\nV
 Diff\n\n&nbsp\;\n\nIn the comments:\n\n 	State whether you want to learn c
 anyoning\, sport or trad climbing skills (if multiple please order them wi
 th your preference)\n 	Ensure you have filled out the Trip Leader Progres
 sion Form\, so we can assess at what level you can be placed in.\n 	Give a
  preference for which workshop level you would like to attend.\n 	If you a
 re available and suitable to help run a workshop.\n\n&nbsp\;\n\nIf you hav
 e any questions\, or if you're unsure if this training weekend is right fo
 r you\, please feel free to contact Gabriel Dickinson via Facebook Messeng
 er. 
CATEGORIES:Canyoning,Outdoor Climbing,Training
LOCATION:https://www.google.com/maps/place/Cathedral+Reserve+Camping+Ground
 s/@-33.5020685,150.3723273,15z/data=!4m10!1m2!2m1!1scathedral+of+ferns+cam
 pground!3m6!1s0x6b0d880f2c3a4669:0xbd44ae57623e5b31!8m2!3d-33.5020693!4d15
 0.3903527!15sCh1jYXRoZWRyYWwgb2YgZmVybnMgY2FtcGdyb3VuZFofIh1jYXRoZWRyYWwgb
 2YgZmVybnMgY2FtcGdyb3VuZJIBCmNhbXBncm91bmSaASRDaGREU1VoTk1HOW5TMFZKUTBGblN
 VUk9hMGt5ZUc1M1JSQULgAQD6AQQIABBI!16s%2Fg%2F11c6tt6qvh?entry=ttu&g_ep=Egoy
 MDI1MDExMC4wIKXMDSoASAFQAw%3D%3D
END:VEVENT
BEGIN:VTIMEZONE
TZID:Australia/Sydney
X-LIC-LOCATION:Australia/Sydney
BEGIN:DAYLIGHT
DTSTART:20241006T030000
TZOFFSETFROM:+1000
TZOFFSETTO:+1100
TZNAME:AEDT
END:DAYLIGHT
END:VTIMEZONE
END:VCALENDAR