BEGIN:VCALENDAR
VERSION:2.0
PRODID:-//wp-events-plugin.com//7.2.3.1//EN
TZID:Australia/Sydney
X-WR-TIMEZONE:Australia/Sydney
BEGIN:VEVENT
UID:3420@unswoc.org
DTSTART;TZID=Australia/Sydney;VALUE=DATE:20240608
DTEND;TZID=Australia/Sydney;VALUE=DATE:20240610
DTSTAMP:20240607T060705Z
URL:https://unswoc.org/wordpress/events/tl-and-tlit-intensive-training-wee
 kend/
SUMMARY:TL and TLIT Intensive Training Weekend
DESCRIPTION:Hi all\,\n\nOn the long weekend of 8/9th June\, UNSWOC is plann
 ing to do an intensive 2 day TL and TLIT training and refresher course.\n\
 nThis weekend will aim to upskill our TL's and TLIT's on skills required t
 o lead trips\, including skills from basic rockcraft to vertical rescue.\n
 \n[caption id="attachment_16623" align="aligncenter" width="300"] Malaita 
 Point[/caption]\nDetails\nA preliminary outline of the weekend is as follo
 ws:\n\n\n\n\nSaturday 8th \n\n\nSunday 9th \n\n\n\nCanyoning Lvl 1 Works
 hop\nClimbing Lvl 1 Workshop\nCanyoning Lvl 1 Workshop\nClimbing Lvl 1 Wor
 kshop\n\n\nCanyoning Lvl 2 Workshop\nClimbing Lvl 2 Workshop\nCanyoning Lv
 l 2 Workshop\nClimbing Lvl 2 Workshop\n\n\n\nWe will also try to get some 
 afternoon workshop going\, teaching skills such as navigation and rope the
 ory.\n\nParticipants will be assigned a group based on their response to t
 he Trip Leader Progression Form\, and will stay with their group the entir
 e weekend.\n\nAn outline of the skills in each level can be found here UNS
 WOC Trip Leader Skillsets V2.\n\nThe format of each two day workshop is up
  to the discretion of the TLs running the workshops\, and could include cl
 ifftop workshops\, at location scenarios\, or workshops at the campsite.\n
 \nNumber of participants depends on the number of TL's available to help r
 un the workshops.\n\nAll workshops will be run around the upper Blue Mtns 
 and we will be camping at Cathedral Reserve on the Saturday night.\n\n[cap
 tion id="attachment_16621" align="aligncenter" width="300"] Dirty Rotten P
 igs[/caption]\n\n&nbsp\;\nPrereading\nSkills being taught:\n\nUNSWOC Trip 
 Leader Skillsets V2\n\nGeneral Ropework:\n\nGeneral Rope Sports Manual V2\
 n\nCanyoning:\n\nCanyoning Training Manual V5\n\nClimbing:\n\nVDiff\n\n&nb
 sp\;\n\n&nbsp\;\n\nIn the comments:\n\n 	State whether you want to learn c
 anyoning\, sport or trad climbing skills (if multiple please order them wi
 th your preference)\n 	Ensure you have filled out the Trip Leader Progres
 sion Form\, so we can assess at what level you can be placed in.\n 	Give a
  preference for which workshop you would like to attend.\n 	If you are ava
 ilable and suitable to help run a workshop.\n
CATEGORIES:Abseiling,Canyoning,Climbing
LOCATION:https://search.app.goo.gl/mbqrWv8
END:VEVENT
BEGIN:VTIMEZONE
TZID:Australia/Sydney
X-LIC-LOCATION:Australia/Sydney
BEGIN:STANDARD
DTSTART:20240407T020000
TZOFFSETFROM:+1100
TZOFFSETTO:+1000
TZNAME:AEST
END:STANDARD
END:VTIMEZONE
END:VCALENDAR