BEGIN:VCALENDAR
VERSION:2.0
PRODID:-//wp-events-plugin.com//7.2.3.1//EN
TZID:Australia/Sydney
X-WR-TIMEZONE:Australia/Sydney
BEGIN:VEVENT
UID:2675@unswoc.org
DTSTART;TZID=Australia/Sydney:20200725T150000
DTEND;TZID=Australia/Sydney:20200726T200000
DTSTAMP:20200721T084336Z
URL:https://unswoc.org/wordpress/events/tigersname/
SUMMARY:Tigersnake Canyon - Beginners Trip
DESCRIPTION:Hey!\n\nElliott and me (Nadav) are leading a trip on Saturday-S
 unday through Tigersnake canyon!\n\nTiger Snake Canyon is a narrow\, twist
 ing tributary on the Newnes Plateau. It features two constrictions and a c
 ouple of abseils.. The lower is deep\, dark and spectacular.\n\nCheck this
  out!\n\n\n\nMore info and pics can be found here: ozultimate.com/…ack_n
 otes/tiger_snake.htm\n\nThis is a dry canyon so don't expect to get too we
 t\, but expect at least wet feet/legs. It will still be chilly however so 
 bring warm clothes. e.g. Thermals beneath your clothes with a rain jacket 
 on top.\n\nIt’s alright if you have not abseiled before\, we can show yo
 u the ropes but please indicate in the comment box whether you have abseil
 ed before and how experienced you are\, we will try have a balance of peop
 le so that we won't be too slow.\n\nPlease fill out the form when you sign
  up and comment with your experience (if you don’t have rope skills\, ju
 st comment what other outdoor activities you have done) whether you have a
 ccess to a car and your favourite outdoors snack (preferably also bring it
  to the canyon 😀)!\n\nThe plan is to leave Sydney Saturday afternoon\, 
 camp at Mt Wilson\, Cathedral of Ferns campground and leave semi early in 
 the morning to the canyon\, and return Sunday Evening.\n\nWe are car depen
 dant at the moment so if you own/have access to a car (that can go on unpa
 ved roads) please please please let us know!\n\nWhat you need:\n\n 	harnes
 s*\n 	helmet*\n 	safety + biner*\n 	Figure 8 device (or similar) + biner*\
 n 	backpack that can get wet\n 	headtorch (if you dont have a head torch\,
  bring at least some kind of torch – it gets dark early these days!)\n 	
 drybag (this is important for spare clothes and your food!\n 	runners that
  may get trashed\n 	thermals and woolen or synthetic socks (don’t wear A
 NY cotton\, you will be miserably cold!)\n 	spare set of thermals to carry
  in your drybag (for emergencies)\n 	rain jacket\n 	Breakfast\, lunch and 
 snacks!\n 	at least 2l of water\n 	dry clothes and shoes for the car ride 
 back\n 	Camping Gear\n\n 	tent (one per person due to covid rules)\n 	slee
 ping bag\n 	sleeping mat\n 	dinner\n 	whatever else you like to bring camp
 ing\n\n\n 	adventure spirit and heaps of good mood!\n\n*you can get this f
 rom the club on gear night (check the fb page\, most likely thursday night
 )\n\nGet keen and see ya there!\n\nCheers\,\n\nNadav and Elliott
CATEGORIES:Canyoning
END:VEVENT
BEGIN:VTIMEZONE
TZID:Australia/Sydney
X-LIC-LOCATION:Australia/Sydney
BEGIN:STANDARD
DTSTART:20200405T020000
TZOFFSETFROM:+1100
TZOFFSETTO:+1000
TZNAME:AEST
END:STANDARD
END:VTIMEZONE
END:VCALENDAR