BEGIN:VCALENDAR
VERSION:2.0
PRODID:-//wp-events-plugin.com//7.2.3.1//EN
TZID:Australia/Sydney
X-WR-TIMEZONE:Australia/Sydney
BEGIN:VEVENT
UID:2285@unswoc.org
DTSTART;VALUE=DATE:20180926
DTEND;VALUE=DATE:20180927
DTSTAMP:20180917T053913Z
URL:https://unswoc.org/wordpress/events/tigersnake-canyon-26th-september/
SUMMARY:Tigersnake canyon on the 26th of September
DESCRIPTION:Hi guys\,\n\nOn Wednesday (26th September) in the midsem break\
 , Matt and I will be leading a trip to Tiger Snake canyon. It is beginner 
 friendly\, and mostly dry (you might get your feet wet).\n\nTrack notes: h
 ttp://ozultimate.com/canyoning/track_notes/tiger_snake.htm\n\nIf you’re 
 interested in coming\, please PM us (Matthew Notarangelo or Dion Russ) on 
 Facebook with:\n- If you have a car and can drive\n- Experience and fitnes
 s level (canyoning/abseiling experience)\n\nRequired gear:\n(Can be borrow
 ed from the gear cupboard)\n\n- Helmet\n\n- Harness\n\n- Descender (ATC or
  other)\n\n- 2 x locking carabiners\n\n- Safety sling\n\nAlso:\n\n- Food &
 amp\; water for the day\n\n- Petrol money\n\n- Wool or synthetic socks (no
  cotton)\n- Hiking clothes (no jeans or cotton)\n\n- Closed shoes\n- Therm
 als if it’s cold\n\n- Head torch\n- Backpack to carry all your stuff\n\n
 Cheers folks!
CATEGORIES:Canyoning
END:VEVENT
END:VCALENDAR