BEGIN:VCALENDAR
VERSION:2.0
PRODID:-//wp-events-plugin.com//7.2.3.1//EN
TZID:Australia/Sydney
X-WR-TIMEZONE:Australia/Sydney
BEGIN:VEVENT
UID:541@unswoc.org
DTSTART:20140830T180000Z
DTEND:20140831T050000Z
DTSTAMP:20140829T215953Z
URL:https://unswoc.org/wordpress/events/tiger-snake-canyon/
SUMMARY:Tiger Snake Canyon
DESCRIPTION:TRIP FULL\, the last space is for Damon.\n\nOn Sunday Damon\, L
 aura and I will be running a trip through Tiger Snake Canyon in Newnes! It
  looks really beautiful and a few very cool abseils in it so I've been tol
 d.\nThere are 8 Beginner spaces.\n\nIt's a Dry Canyon (so you might get we
 t feet) so you will need:\n\n(Can be borrowed)\n- Harness\n- Helmet\n- Bel
 ay Plate\n- 2 x Carabiners\n- Safety Sling\n(These can be borrowed from Ge
 ars)\n\nAlso:\n- Food &amp\; Water for the day\n- Petrol Money\n- Woolen o
 r Synthetic Socks (Buy some or source some\, maybe bring lighter socks in 
 case you're boiling on the hike out)\n- Volleys (Or grippy shoes that will
  drain of water)\n- Some spare clothes  to leave in the car in case you g
 et wet\n- HEAD TORCH\n\nSunday night I plan to stay at my uncle's place in
  Hazelbrook and Winnie and I will climb Bunny Bucket on Monday. Whoever wo
 uld like to stay with us Sunday night and do their own thing Monday are mo
 re than welcome :)\n\nCheers folks! :)
CATEGORIES:Canyoning
LOCATION:Newnes State Forest\, Newnes\, Newnes\, NSW\, Australia
GEO:-33.176849;150.235886
X-APPLE-STRUCTURED-LOCATION;VALUE=URI;X-ADDRESS=Newnes\, Newnes\, NSW\, Aus
 tralia;X-APPLE-RADIUS=100;X-TITLE=Newnes State Forest:geo:-33.176849,150.2
 35886
END:VEVENT
END:VCALENDAR