BEGIN:VCALENDAR
VERSION:2.0
PRODID:-//wp-events-plugin.com//7.2.3.1//EN
TZID:Australia/Sydney
X-WR-TIMEZONE:Australia/Sydney
BEGIN:VEVENT
UID:3619@unswoc.org
DTSTART;TZID=Australia/Sydney:20250720T100000
DTEND;TZID=Australia/Sydney:20250720T180000
DTSTAMP:20250719T220740Z
URL:https://unswoc.org/wordpress/events/tiger-snake-canyon-intermediate-ad
 vanced/
SUMMARY:Tiger Snake Canyon (Intermediate/Advanced)
DESCRIPTION:Hey everyone!\n\nMe (Leo)\, Cornellius\, Lachlan and Aleksanter
 i are disappearing down cracks in the ground again\, and we're told this p
 articular crack is called Tiger Snake Canyon if any canyoners want to come
  on down with us (track notes are here\, and the ropewiki info here).\n\nP
 lease be aware we have not run this canyon before\, so this trip's only f
 or people who are already comfortable canyoning and abseiling\, and prefer
 ably with using third hand belays as well. This should be a fairly dry can
 yon\, with some narrow constrictions and fun abseils\, so if you're down\,
  let us know what canyoning experience you have\, and your gameplan for de
 feating a minotaur in a silent disco.\n\nGear: \n\n 	Harness*\n 	Figure 8
  descender &amp\; carabiner*\n 	Safety sling &amp\; carabiner*\n 	prusik &
 amp\; carabiner*\n 	At least 2L water\n 	Food: lunch\, snacks.\n 	Emergenc
 y blanket (can be bought from the gear cupboard for $5)\n 	Helmet*\n 	Enc
 losed Shoes (Volleys or old sneakers are good options)\n 	Backpack (at l
 east 25L\, we may give you some group gear to carry)\n 	Headtorch\n 	Sunsc
 reen\n\nItems with an asterisk (*) can be borrowed from the gear cupboard.
 \n\n&nbsp\;
CATEGORIES:Canyoning
LOCATION:https://maps.app.goo.gl/1B3eZrSLJUo7DXzo7
END:VEVENT
BEGIN:VTIMEZONE
TZID:Australia/Sydney
X-LIC-LOCATION:Australia/Sydney
BEGIN:STANDARD
DTSTART:20250406T020000
TZOFFSETFROM:+1100
TZOFFSETTO:+1000
TZNAME:AEST
END:STANDARD
END:VTIMEZONE
END:VCALENDAR