BEGIN:VCALENDAR
VERSION:2.0
PRODID:-//wp-events-plugin.com//7.2.3.1//EN
TZID:Australia/Sydney
X-WR-TIMEZONE:Australia/Sydney
BEGIN:VEVENT
UID:2284@unswoc.org
DTSTART:20180915T190000Z
DTEND:20180916T080000Z
DTSTAMP:20180911T094000Z
URL:https://unswoc.org/wordpress/events/tiger-snake-canyon-beginners-trip/
SUMMARY:Tiger snake canyon - beginners trip!
DESCRIPTION:Hey UNSWOCies\, time to get low!\n\nMaria and me are leading a 
 trip on sunday through Tigersnake canyon! This is going to be a super awes
 ome trip! Tigersnake has a deep\, dark and spectacular constriction and a 
 couple of abseils.\n\nCheck this out!\n\n\n\nSick right?! More info and pi
 cs can be found here: http://ozultimate.com/canyoning/track_notes/geronimo
 .htm\n\nThis is a whole day adventure so you need to be fit! It's alright 
 if you have not abseiled before\, we can show you the ropes. Please fill o
 ut the form when you sign up and comment with your experience (if you don'
 t have rope skills\, just comment what other outdoor activities you have d
 one) and your favorite outdoors snack (preferably also bring it to the can
 yon :D )!\n\nThis is a dry canyon so we don't expect to get too wet (aka w
 et feet\, but probably no swims)\, but it will still be chilly\, so bring 
 warm clothing. I usually wear thermals below a pair of old shorts and shir
 t and a rain jacket on top.\n\nWhat you need:\n\n 	harness*\n 	helmet*\n 	
 safety + biner*\n 	atc + biner*\n 	backpack that can get wet(*)\n 	headtor
 ch (if you dont have a head torch\, bring at least some kind of torch - it
  gets dark early these days!)\n 	drybag (this is important for spare cloth
 es and your food! I strongly recommend to buy one\, e.g. at anaconda https
 ://www.anacondastores.com/camping-hiking/packs-bags/dry-bags-storage/sea-t
 o-summit-dry-sack/p/BP90028599001\, these come in handy on almost any outd
 oor trip).\n 	runners that may get trashed\n 	thermals and woolen or synth
 etic socks (don't wear ANY cotton\, you will be miserably cold!)\n 	spare 
 set of thermals to carry in your drybag (for emergencies)\n 	rain jacket\n
  	lunch and snacks!\n 	at least 2l of water\n 	dry clothes and shoes for t
 he car ride back\n 	adventure spirit and heaps of good mood!\n\n*you can g
 et this from the club on gear night (check the fb page\, most likely thurs
 day night)\n\nWe will leave Sydney very early (6-7am!) and we really need 
 some drivers so please let me know if you have a car!\n\nGet keen and see 
 ya there!\n\nCheers\,\n\nSteffi and Maria
CATEGORIES:Canyoning
END:VEVENT
END:VCALENDAR