BEGIN:VCALENDAR
VERSION:2.0
PRODID:-//wp-events-plugin.com//7.2.3.1//EN
TZID:Australia/Sydney
X-WR-TIMEZONE:Australia/Sydney
BEGIN:VEVENT
UID:3162@unswoc.org
DTSTART;TZID=Australia/Sydney:20230921T170000
DTEND;TZID=Australia/Sydney:20230921T214500
DTSTAMP:20230913T062712Z
URL:https://unswoc.org/wordpress/events/thursday-ledge-night-2023-09-21/
SUMMARY:Thursday LEDGE Night!
DESCRIPTION:Hey all! It's 2023 and that means the LEDGE is back for another
  year of good times! Every Thursday night the Outdoors Club head to the Le
 dge Climbing Centre at USYD for discounted $6 entry for club members (usua
 l entry fee for non-members). It is the place to be to meet new friends\, 
 get a feel for the club\, and get excited about all the trips to come this
  term.\n\n&nbsp\;\n\nCOVID Rules and Things\n\n 	Bookings no longer requir
 ed - just come along\, member or not!\n 	Full vaccination required - in 
 line with the requirement USYD has on their sporting facilities complex an
 d our UNSW Outdoors Club Vaccination Policy\n 	Social Distancing - please
  continue to observe social distancing and COVID safe behaviour\n 	Pizza a
 nd Beer? - After climbing we usually head to the local pub just down the 
 road for discounted (and really good) pizza\, beer and good chats. Do come
  along!\n\n&nbsp\;\n\nYou don't need any climbing experience or gear to co
 me along to the ledge. We will have harness for you to borrow. Any and all
  abilities are welcome too\, doesn't matter if you've never set foot in a 
 climbing gym before.\n\nThe Ledge is the best place to sign-up to the club
 \, learn\, and plan trips for the weekend! Beginner to advanced friendly!\
 nPlease note that most members arrive at 5:30pm - 6:00pm\, but for $6 clim
 bing you can arrive anytime from 5pm!\n\nAny questions or concerns ask aro
 und for Brendan\, Angela\, Jayden\, Daniel\, Oliver or any other exec memb
 ers/trip leaders. Everyone is friendly.\n\nSee you there!!\n\n
ATTACH;FMTTYPE=image/jpeg:https://unswoc.org/wordpress/wp-content/uploads/
 2023/01/298567637_5336759009741840_4875985864250640140_n1.jpg
CATEGORIES:Bouldering,Indoor Climbing
LOCATION:https://goo.gl/maps/hNJhQoCUsvAGny7XA
END:VEVENT
BEGIN:VTIMEZONE
TZID:Australia/Sydney
X-LIC-LOCATION:Australia/Sydney
BEGIN:STANDARD
DTSTART:20230402T020000
TZOFFSETFROM:+1100
TZOFFSETTO:+1000
TZNAME:AEST
END:STANDARD
END:VTIMEZONE
END:VCALENDAR