BEGIN:VCALENDAR
VERSION:2.0
PRODID:-//wp-events-plugin.com//7.2.3.1//EN
TZID:Australia/Sydney
X-WR-TIMEZONE:Australia/Sydney
BEGIN:VEVENT
UID:3256@unswoc.org
DTSTART;TZID=Australia/Sydney:20230524T173000
DTEND;TZID=Australia/Sydney:20230524T203000
DTSTAMP:20230511T235949Z
URL:https://unswoc.org/wordpress/events/through-hiker-story-night/
SUMMARY:Through-hiker Story Night
DESCRIPTION:UNSW Outdoors Club in collaboration with Trek and travel / Moun
 tain Equipment presents.....\n\n&nbsp\;\nThrough-Hiker Story Night\nWhen: 
 24TH May 5:30-8:30pm\n\nWhere: Trek and Travel\n\nSpeakers: \n\nGR20 Corsi
 ca (France): Jenny crossed the Mediterranean island of Corsica on Europe's
  most demanding Grande Randonnée\, the Gr20.\n\nTe Araroa (NZ): Mira ambl
 ed through rivers and over mountains\, vertically traversing the ~1400km o
 f New Zealand's south island.\n\nBibbleman (WA): Georgie avoided snakes an
 d drop bears in her meander from just outside Perth to Albany on the south
  coast of WA.\n\nAustralian Alps Walking Track: Brendan bush bashed his wa
 y for 33 days across the Australian Alps\, one of the toughest long-distan
 ce hikes in Australia.\n\nCome along find out about their adventures as we
 ll and gain important insight into planning\, preparations\, gear\, trail 
 food and how to be hiker trash.\n\n&nbsp\;\n\nThere will be free food! (if
  you any dietary requirements please place it in the comments when you sig
 h up)\n\nBYO\, cushion\, fold out chair or foam butt pad or go ultralight 
 and just sit on the floor.\n\n&nbsp\;\n\nOpen to UNSWOC Members and other 
 Adventure enthusiast alike\n\n&nbsp\;\n\nAll attendees will be given a 15%
  discount voucher to Trek &amp\; travel / Mountain Equipment!\n\n&nbsp\;\n
 \nIf you have any questions free free to email Mira at vicepresident@unswo
 c.org\n\n&nbsp\;\n\n&nbsp\;\n\n&nbsp\;\n\n
ATTACH;FMTTYPE=image/jpeg:https://unswoc.org/wordpress/wp-content/uploads/
 2023/05/Slide2.jpg
END:VEVENT
BEGIN:VTIMEZONE
TZID:Australia/Sydney
X-LIC-LOCATION:Australia/Sydney
BEGIN:STANDARD
DTSTART:20230402T020000
TZOFFSETFROM:+1100
TZOFFSETTO:+1000
TZNAME:AEST
END:STANDARD
END:VTIMEZONE
END:VCALENDAR