BEGIN:VCALENDAR
VERSION:2.0
PRODID:-//wp-events-plugin.com//7.2.3.1//EN
TZID:Australia/Sydney
X-WR-TIMEZONE:Australia/Sydney
BEGIN:VEVENT
UID:2047@unswoc.org
DTSTART:20160817T070000Z
DTEND:20160817T170000Z
DTSTAMP:20160808T122550Z
URL:https://unswoc.org/wordpress/events/this-is-gear-cleanup/
SUMMARY:THIS. IS. GEAR (CLEANUP)!!!!
DESCRIPTION:Wow! It's that time of year again\, kids! Time to un$%&amp\;* t
 he cluster%&amp\;*# and make your life and my life easier (and maybe unco
 ver some long lost possessions along the way).\n\nI've been told by the Bo
 ss that the club will provide beer and pizza to those who help on. Free di
 nner AND get you get to handle some serious hardware...who could say no?\n
 \nTHE PLAN:\n\n	Gear night will proceed as usual\, I'll be running it from
  6-7PM\n	While at the gear cupboard\, we'll be removing stuff\, replacing 
 stuff (hopefully in a more orderly fashion)\, cutting rope and doing a sto
 cktake on a couple of types of gear (prusiks and boltplates sacrificed fo
 r a greater good). If you're luck we might even boil some cams and relube 
 (mmmm cams)\n	I'll bring my car down and we'll move stuff and people over 
 to the tramshed and continue the mayhem\n	Pizza and beer will be consumed 
 throughout the night\n	Post gear visit to the local tavern\n	3AM uber Dea
 th Stairs courtesy of Eamonn\n\n&nbsp\;\n\n&nbsp\;
CATEGORIES:Social Event
END:VEVENT
END:VCALENDAR