BEGIN:VCALENDAR
VERSION:2.0
PRODID:-//wp-events-plugin.com//7.2.3.1//EN
TZID:Australia/Sydney
X-WR-TIMEZONE:Australia/Sydney
BEGIN:VEVENT
UID:2352@unswoc.org
DTSTART:20190418T130000Z
DTEND:20190427T130000Z
DTSTAMP:20190205T212037Z
URL:https://unswoc.org/wordpress/events/the-slash-fest-arapiles-grampians-
 easter-anzac-unswoc-surmc-trad-sport-bouldering/
SUMMARY:The Slash Fest - Arapiles/Grampians\, Easter/Anzac\, UNSWOC/SURMC\,
  Trad/Sport/Bouldering
DESCRIPTION:How many more slashes could you ask for! If you haven't sorted 
 what you're doing for the great easter-anzac 10 days come do it all at wha
 t we've dubbed The Slash Fest.\n\nBehold Araps\, the Trad climbing Mecca\,
  and The Gramps\, for epic sport climbing and bouldering.\n\nYou'll need t
 o be self sufficient and for Araps to be able to lead Trad or have someone
  you can second (though there is also great bouldering and sport at Araps)
 .\n\nSee facebook event for more deets and organising!\n\nCheers\,\nBrenda
 n
CATEGORIES:Bouldering,Outdoor Climbing
END:VEVENT
END:VCALENDAR