BEGIN:VCALENDAR
VERSION:2.0
PRODID:-//wp-events-plugin.com//7.2.3.1//EN
TZID:Australia/Sydney
X-WR-TIMEZONE:Australia/Sydney
BEGIN:VEVENT
UID:2005@unswoc.org
DTSTART:20160416T030000Z
DTEND:20160416T070000Z
DTSTAMP:20160415T114411Z
URL:https://unswoc.org/wordpress/events/the-promised-land-beginner-friendl
 y-bouldering/
SUMMARY:The Promised Land - Beginner Friendly Bouldering
DESCRIPTION:Hey guys!\n\nCome for some chilled afternoon bouldering at The 
 Promised Land! I haven't been before but I've heard good things about this
  place so I'm keen to check it out.\n\nFor people who are new to boulderin
 g\, it's a type of climbing which focuses on shorter routes (usually only
  a few meters high). It doesn't use ropes but instead mats are placed on 
 the ground underneath the person to land on.\n\nIf you haven't been outdoo
 r bouldering before that's okay this place is beginner friendly (plenty of
  V0's and V1's). It looks like there are some cool V3\, 4\, 5 and 6 probl
 ems too for those looking for a bit more of a challenge! Here's a link if
  you want to have a look: https://www.thecrag.com/climbing/australia/north
 -shore/the-promised-land\n\nLeaving from Liverpool around 12ish for a 1pm 
 start but feel free to come later. I'm happy to pick people up on the way 
 (e.g. Strathfield station). Otherwise you can catch a train to the Killar
 a train station and walk to the crag (about 20-25 mins). Here's a map: htt
 ps://www.google.com/maps/dir/Killara+Station\,+Killara\,+New+South+Wales\,
 +Australia/-33.755023\,151.169216/@-33.7600857\,151.161976\,16z/data=!3m1!
 4b1!4m9!4m8!1m5!1m1!1s0x6b12a89294772607:0x199b1b41dd65714e!2m2!1d151.1618
 233!2d-33.7656638!1m0!3e2\n\nWhat to bring:\n\n-Water\n\n-Chalk\n\n-Climbi
 ng shoes\n\n-A boulder mat if you have one\n\n-Ice cream money!\n\nIf anyo
 ne needs to contact me my number is: 0423 701 378 :)\n\n&nbsp\;\n\n&nbsp\;
 \n\n&nbsp\;
ATTACH;FMTTYPE=image/jpeg:https://unswoc.org/wordpress/wp-content/uploads/
 2016/04/20160415_181940-1.jpg
CATEGORIES:Bouldering
END:VEVENT
END:VCALENDAR