BEGIN:VCALENDAR
VERSION:2.0
PRODID:-//wp-events-plugin.com//7.2.3.1//EN
TZID:Australia/Sydney
X-WR-TIMEZONE:Australia/Sydney
BEGIN:VEVENT
UID:2745@unswoc.org
DTSTART;TZID=Australia/Sydney:20201008T164500
DTEND;TZID=Australia/Sydney:20201008T180000
DTSTAMP:20201006T101429Z
URL:https://unswoc.org/wordpress/events/the-ledge-training-multi-pitching-
 skills/
SUMMARY:The Ledge Training - Multi Pitching Skills
DESCRIPTION:Hi everyone!\n\nEver wondered how people scale 100m walls witho
 ut a 100m rope? That would involve multi-pitching: climbing a climb in sev
 eral individual chunks (pitches).\n\nPatrick Chambers and I will be runnin
 g a training session to go through:\n\n 	Building anchors (for sport multi
  pitches)\n 	Top Belaying\n 	General multi pitch considerations\n\nSession
  details:\n\nDate: 8th October 2020 (this Thursday)\n\nTime: 1700hrs to 18
 00hrs\n\nPlace: The Ledge\, USyd (please don't forget to sign up to the UN
 SWOC Event for this because of COVID restrictions)\n\n&nbsp\;\n\nIf you ar
 e interested please message Patrick and I on Facebook with the below:\n\n 
 	Climbing experience\, outdoor and leading\n 	What gear you have\n 	Comfor
 table sport climbing grade\n\nThis training session would be most suited t
 o intermediate climbers with reasonable outdoor climbing experience and kn
 ow-how.\n\nSee you soon!\n\nBrendon Yiu :)
CATEGORIES:Training
END:VEVENT
BEGIN:VTIMEZONE
TZID:Australia/Sydney
X-LIC-LOCATION:Australia/Sydney
BEGIN:DAYLIGHT
DTSTART:20201004T030000
TZOFFSETFROM:+1000
TZOFFSETTO:+1100
TZNAME:AEDT
END:DAYLIGHT
END:VTIMEZONE
END:VCALENDAR